Workbook

Sheet RAZÃO
B2: MORADA DO SOL TURISMO, EVENTOS E PARTICIPAÇÕES S/A
B3: Balancete de Despesas
B4: Período : 01/07/2023 a 31/07/2023
E5: VALOR | F5: DETALHE
B6: IMPOSTOS SOBRE RECEITA BRUTA
C7: 1. | D7: Cofins | E7: 2514 | F7: abertura
C8: 2. | D8: Pis | E8: 544.7 | F8: abertura
B9: SERVIÇOS DE TERCEIROS PESSOA FÍSICA
C10: 3. | D10: Honorários Advocatícios | E10: =1513+187+1513+187 -> 3400 | F10: abertura
C11: 4. | D11: Prestação de Serviços Pessoa Física | E11: =23399.64-E10 -> 19999.64 | F11: abertura
B12: REMUNERAÇÃO DIRETORIA/CONSELHO/PESSOAL
C13: 5. | D13: Manoel de Araujo Sobrinho | E13: 13347.14 | F13: abertura
C14: 5. | D14: Saba José Harb | E14: 6865.13 | F14: abertura
C15: 5. | D15: Carlos Eduardo Delbon | E15: 2363.57 | F15: abertura
C16: 5. | D16: Donizete Simioni | E16: 2363.57 | F16: abertura
C17: 5. | D17: Mario Zafallon Junior | E17: 2363.57 | F17: abertura
C18: 5. | D18: Nelson Kiyoshi Hisatsuga | E18: 2363.57 | F18: abertura
C19: 5. | D19: Salua Kairuz Manoel | E19: 2363.57 | F19: abertura
C20: 5. | D20: Jefferson Henrique Rosseti | E20: 4317.02 | F20: abertura
B21: ENCARGOS SOCIAIS
C22: 6. | D22: INSS sobre remuneração Autônomos | E22: 4679.93 | F22: abertura
C23: 7. | D23: INSS sobre remuneração Diretores | E23: 7269.43 | F23: abertura
B24: GASTOS DIVERSOS
C25: 8. | D25: Honorários Contábeis / Auditoria | E25: 2100 | F25: abertura
C26: 9. | D26: Despesas de Telefone/Internet | E26: 777.39 | F26: abertura
C27: 10. | D27: Impressos/Xerox/Mat Escritorio | E27: 340 | F27: abertura
C28: 11. | D28: Despesas com Eventos | E28: 1050 | F28: abertura
C29: 12. | D29: Manutenção e Conservação de Imoveis | E29: 25665.2 | F29: abertura
C30: 13. | D30: Manutenção Maq/Eqtos/Mobilia | E30: 85.33 | F30: abertura
C31: 14. | D31: Combustiveis e Lubrificantes | E31: 72.49 | F31: abertura
C32: 15. | D32: Despesas com Segurança | E32: 4470 | F32: abertura
C33: 16. | D33: Despesas Copa/Cozinha/Mat Limpesa | E33: 155.4 | F33: abertura
C34: 17. | D34: Viagens e Estadias | E34: 1413.03 | F34: abertura
C35: 18. | D35: Depreciação | E35: 373.45 | F35: abertura
C36: 19. | D36: Depreciação - Imoveis | E36: 2743.64 | F36: abertura
B37: DESPESAS/RECEITAS FINANCEIRAS
C38: 20. | D38: Juros Ativos | E38: -2943.14 | F38: abertura
C39: 21. | D39: Encargos s/ Tributos Vencidos | E39: 796.51 | F39: abertura
C40: 22. | D40: Despesas Bancárias | E40: 45 | F40: abertura
C41: 23. | D41: IRRF s/ Aplicações Financeiras | E41: 793.13 | F41: abertura
...

Sheet 1.
B2: MORADA DO SOL TURISMO, EVENTOS E PARTICIPAÇÕES S/A
B3: Balancete de Despesas
B4: =RAZÃO!B4 -> Período : 01/07/2023 a 31/07/2023
B5: Data | C5: Histórico | D5: Valor
B6: 31/07/2023 | C6: Devido s/receita operacional d/mes | D6: 2514 | E6: retorna | F6: docto.

Sheet 2.
B2: MORADA DO SOL TURISMO, EVENTOS E PARTICIPAÇÕES S/A
B3: Balancete de Despesas
B4: =RAZÃO!B4 -> Período : 01/07/2023 a 31/07/2023
B5: Data | C5: Histórico | D5: Valor
B6: 31/07/2023 | C6: Devido s/receita operacional d/mes | D6: 544.7 | E6: retorna | F6: docto.

Sheet 3.
B2: MORADA DO SOL TURISMO, EVENTOS E PARTICIPAÇÕES S/A
B3: Balancete de Despesas
B4: =RAZÃO!B4 -> Período : 01/07/2023 a 31/07/2023
B5: Data | C5: Histórico | D5: Valor
B6: 31/07/2023 | C6: VR. A SER PAGO REF. ALINE MARIA PEREIRA | D6: 1513 | F6: docto.
B7: 31/07/2023 | C7: VR. A SER PAGO REF. 07/2023 INSS ALINE MARIA PEREIRA | D7: 187 | F7: docto.
B8: 31/07/2023 | C8: VR. A SER PAGO REF. FERNANDA CILIA MARAFÃO BRUNETTI | D8: 1513 | F8: docto.
B9: 31/07/2023 | C9: VR. A SER PAGO REF. 07/2023 INSS FERNANDA CILIA MARAFÃO BRUNETTI | D9: 187 | E9: retorna | F9: docto.
C11: Total | D11: =SUM(D6:D10) -> 3400

Sheet 4.
B2: MORADA DO SOL TURISMO, EVENTOS E PARTICIPAÇÕES S/A
B3: Balancete de Despesas
B4: =RAZÃO!B4 -> Período : 01/07/2023 a 31/07/2023
B5: Data | C5: Histórico | D5: Valor
B6: 31/07/2023 | C6: VR. A SER PAGO REF. BRUNA CAROLINA PONCIANO STIEVANO | D6: 2313 | F6: docto.
B7: 31/07/2023 | C7: VR. A SER PAGO REF. 07/2023 INSS BRUNA CAROLINA PONCIANO STIEVANO | D7: 285.87 | F7: docto.
B8: 31/07/2023 | C8: VR. A SER PAGO REF. IAGO ALEJANDRO GUIDI MARCELINO | D8: 200 | F8: docto.
B9: 31/07/2023 | C9: VR. A SER PAGO REF. 07/2023 INSS IAGO ALEJANDRO GUIDI MARCELINO | D9: 24.71 | F9: docto.
B10: 31/07/2023 | C10: VR. A SER PAGO REF. INDIAMARA MOURA SIQUEIRA | D10: 2047 | F10: docto.
B11: 31/07/2023 | C11: VR. A SER PAGO REF. 07/2023 INSS INDIAMARA MOURA SIQUEIRA | D11: 253 | F11: docto.
B12: 31/07/2023 | C12: VR. A SER PAGO REF. JANOEL SANTOS DA SILVA | D12: 1492.6 | F12: docto.
B13: 31/07/2023 | C13: VR. A SER PAGO REF. 07/2023 INSS JANOEL SANTOS DA SILVA | D13: 184.47 | F13: docto.
B14: 31/07/2023 | C14: VR. A SER PAGO REF. PABLO HENRIQUE RODRIGUES | D14: 1513 | F14: docto.
B15: 31/07/2023 | C15: VR. A SER PAGO REF. 07/2023 INSS PABLO HENRIQUE RODRIGUES | D15: 187 | F15: docto.
B16: 31/07/2023 | C16: VR. A SER PAGO REF. RENAN ALTINO BRESSAN | D16: 2100 | F16: docto.
B17: 31/07/2023 | C17: VR. A SER PAGO REF. 07/2023 INSS RENAN ALTINO BRESSAN | D17: 259.54 | F17: docto.
... B29: 31/07/2023 | C29: VR. A SER PAGO REF. EDUARDO GUSTAVO BUZZA | D29: 1780 | F29: docto.
B30: 31/07/2023 | C30: VR. A SER PAGO REF. 07/2023 INSS EDUARDO GUSTAVO BUZZA | D30: 220 | E30: retorna | F30: docto.
C32: Total | D32: =SUM(D6:D31) -> 19999.64

Sheet 5.
B2: MORADA DO SOL TURISMO, EVENTOS E PARTICIPAÇÕES S/A
B3: Balancete de Despesas
B4: =RAZÃO!B4 -> Período : 01/07/2023 a 31/07/2023
B5: Data | C5: Histórico | D5: Valor
B6: 45077 | C6: Honorarios Diretoria Carlos Eduardo Delbon | D6: 2363.57 | F6: docto.
B7: 45077 | C7: Honorarios Diretoria Donizete Simioni | D7: 2363.57 | F7: docto.
B8: 45077 | C8: Honorarios Diretoria Manoel de Araujo Sobrinho | D8: 13347.14 | F8: docto.
B9: 45077 | C9: Honorarios Diretoria Saba Jose Harb | D9: 6865.13 | F9: docto.
B10: 45077 | C10: Honorarios Conselho Fiscal Mario Zafallon Junior | D10: 2363.57 | F10: docto.
B11: 45077 | C11: Honorarios Conselho Fiscal Saula Kairuz Manoel | D11: 2363.57 | F11: docto.
B12: 45077 | C12: Honorarios Diretoria Jefferson Henrique Rosseti | D12: 4317.02 | F12: docto.
B13: 45077 | C13: Honorarios Conselho Fiscal Nelson Kiyoshi Hisatsuga | D13: 2363.57 | E13: retorna | F13: docto.
C15: Total | D15: =SUM(D6:D14) -> 36347.14

Sheet 6.
B2: MORADA DO SOL TURISMO, EVENTOS E PARTICIPAÇÕES S/A
B3: Balancete de Despesas
B4: =RAZÃO!B4 -> Período : 01/07/2023 a 31/07/2023
B5: Data | C5: Histórico | D5: Valor
B6: 45138 | C6: VR. A SER PAGO REF. 07/2023 INSS S/REMUNERAÇÃO AUTONOMOS | D6: 4679.93 | E6: retorna | F6: docto.
C8: Total | D8: =SUM(D6:D7) -> 4679.93

Sheet 7.
B2: MORADA DO SOL TURISMO, EVENTOS E PARTICIPAÇÕES S/A
B3: Balancete de Despesas
B4: =RAZÃO!B4 -> Período : 01/07/2023 a 31/07/2023
B5: Data | C5: Histórico | D5: Valor
B6: 45138 | C6: VR. A SER PAGO REF. 07/2023 REF. REMUNERAÇÃO DOS DIRETORES | D6: 7269.43 | E6: retorna | F6: docto.
C8: Total | D8: =SUM(D6:D7) -> 7269.43

Sheet 8.
B2: MORADA DO SOL TURISMO, EVENTOS E PARTICIPAÇÕES S/A
B3: Balancete de Despesas
B4: =RAZÃO!B4 -> Período : 01/07/2023 a 31/07/2023
B5: Data | C5: Histórico | D5: Valor
B6: 17/07/2023 | C6: NF. SERVIÇOS 1697 - INOVACONT ASSESSORIA CONTABIL LTDA | D6: 2100 | E6: retorna | F6: docto.
C8: Total | D8: =SUM(D6:D7) -> 2100

Sheet 9.
B2: MORADA DO SOL TURISMO, EVENTOS E PARTICIPAÇÕES S/A
B3: Balancete de Despesas
B4: =RAZÃO!B4 -> Período : 01/07/2023 a 31/07/2023
B5: Data | C5: Histórico | D5: Valor
B6: 05/07/2023 | C6: PAGTO REF. TECHS INTERNET CORPORATIVO | D6: 83.7 | F6: docto.
B7: 10/07/2023 | C7: PAGTO REF. TECHS INTERNET CORPORATIVO | D7: 334.8 | F7: docto.
B8: 17/07/2023 | C8: PAGO FATURA 1706323038-0 TELEFONICA BRASIL S/A 072023 | D8: 258.9 | F8: docto.
B9: 17/07/2023 | C9: PAGO FATURA 1705269540-0 TELEFONICA BRASIL S/A 072023 | D9: 99.99 | E9: retorna | F9: docto.
C11: Total | D11: =SUM(D6:D10) -> 777.39

Sheet 10.
B2: MORADA DO SOL TURISMO, EVENTOS E PARTICIPAÇÕES S/A
B3: Balancete de Despesas
B4: =RAZÃO!B4 -> Período : 01/07/2023 a 31/07/2023
B5: Data | C5: Histórico | D5: Valor
B6: 13/07/2023 | C6: NF. SERVIÇOS 1191 - C.E.R. VICENTE ME | D6: 30 | F6: docto.
B7: 13/07/2023 | C7: NF. SERVIÇOS 1190 - C. E. R. VICENTE ME | D7: 250 | F7: docto.
B8: 20/07/2023 | C8: PAGTO REF. SAT FISCAL Nº 006087 MYRON PRESENTES E PERFUMES LTDA | D8: 60 | E8: retorna | F8: docto.
C10: Total | D10: =SUM(D6:D9) -> 340

Sheet 11.
B2: MORADA DO SOL TURISMO, EVENTOS E PARTICIPAÇÕES S/A
B3: Balancete de Despesas
B4: =RAZÃO!B4 -> Período : 01/07/2023 a 31/07/2023
B5: Data | C5: Histórico | D5: Valor
B6: 28/07/2023 | C6: NF. SERVIÇOS 34 - THALITA ROSA ZANIN BAPTISTA | D6: 700 | F6: docto.
B7: 28/07/2023 | C7: NF. SERVIÇOS 25 - CARLOS EDUARDO SIMÕES | D7: 350 | E7: retorna | F7: docto.
C9: Total | D9: =SUM(D6:D8) -> 1050

Sheet 12.
B2: MORADA DO SOL TURISMO, EVENTOS E PARTICIPAÇÕES S/A
B3: Balancete de Despesas
B4: =RAZÃO!B4 -> Período : 01/07/2023 a 31/07/2023
B5: Data | C5: Histórico | D5: Valor
B6: 01/07/2023 | C6: NF. SERVIÇOS 17 - ALEXANDRE CESAR MARCOS ROSSETI | D6: 1000 | F6: docto.
B7: 01/07/2023 | C7: NF. SERVIÇOS 16 - ALEXANDRE CESAR MARCOS ROSSETI | D7: 1000 | F7: docto.
B8: 01/07/2023 | C8: COMPRA CONF. N.FISCAL N. 1162 - A. PONTES TINTAS LTDA | D8: 7416 | F8: docto.
B9: 03/07/2023 | C9: COMPRA CONF. N.FISCAL N. 13588 - C.S. SOBRAL MATERIAIS PARA CONSTRUÇÃO | D9: 3345.9 | F9: docto.
B10: 04/07/2023 | C10: COMPRA CONF. N.FISCAL N. 3231 - SHOPPING DOS PARAFUSOS LTDA | D10: 360.7 | F10: docto.
B11: 06/07/2023 | C11: NF. SERVIÇOS 18 - ALEXANDRE CESAR MARCOS ROSSETI | D11: 1000 | F11: docto.
B12: 06/07/2023 | C12: NF. SERVIÇOS 17 - EVALDO DE OLIVEIRA DE SOUZA | D12: 2000 | F12: docto.
B13: 07/07/2023 | C13: COMPRA CONF. N.FISCAL N. 758 - PEDRAS BRASIL DE ARARAQUARA COMERCIAL LTDA | D13: 2808.77 | F13: docto.
B14: 13/07/2023 | C14: COMPRA CONF. N.FISCAL N. 28253 - BLANCO & PIAO COM. PARAFUSOS LTDA EPP | D14: 68.95 | F14: docto.
B15: 17/07/2023 | C15: COMPRA CONF. N.FISCAL N. 24037 - NACONTATOTEM VAREJO LTDA | D15: 124.44 | F15: docto.
B16: 17/07/2023 | C16: COMPRA CONF. N.FISCAL N. 3311 - SHOPPING DOS PARAFUSOS LTDA | D16: 125.45 | F16: docto.
B17: 21/07/2023 | C17: COMPRA CONF. N.FISCAL N. 24153 - NACONTATOTEM VAREJO LTDA | D17: 742.98 | F17: docto.
... B21: 27/07/2023 | C21: NF. SERVIÇOS 138 - EVERTON HENRIQUE BRAUNA BONAVINA | D21: 3000 | F21: docto.
B22: 28/07/2023 | C22: COMPRA CONF. N.FISCAL N. 24312 - NACONTATOTEM VAREJO LTDA | D22: 209.32 | E22: retorna | F22: docto.
C24: Total | D24: =SUM(D6:D23) -> 25665.2

Sheet 13.
B2: MORADA DO SOL TURISMO, EVENTOS E PARTICIPAÇÕES S/A
B3: Balancete de Despesas
B4: =RAZÃO!B4 -> Período : 01/07/2023 a 31/07/2023
B5: Data | C5: Histórico | D5: Valor
B6: 18/07/2023 | C6: COMPRA CONF. N.FISCAL N. 27643 - AMAURI ALVES FERREIRA MAQUINAS EPP | D6: 85.33 | E6: retorna | F6: docto.
C8: Total | D8: =SUM(D6:D7) -> 85.33

Sheet 14.
B2: MORADA DO SOL TURISMO, EVENTOS E PARTICIPAÇÕES S/A
B3: Balancete de Despesas
B4: =RAZÃO!B4 -> Período : 01/07/2023 a 31/07/2023
B5: Data | C5: Histórico | D5: Valor
B6: 04/07/2023 | C6: PAGTO AUTO POSTO PARQUE DE ARARAQUARA EIRELI | D6: 49.49 | F6: docto.
B7: 06/07/2023 | C7: PAGTO REF. SAT FISCAL 1132881 AUTO POSTO DO PARQUE DE ARARAQUARA EIRELI | D7: 23 | E7: retorna | F7: docto.
C9: Total | D9: =SUM(D6:D8) -> 72.49

Sheet 15.
B2: MORADA DO SOL TURISMO, EVENTOS E PARTICIPAÇÕES S/A
B3: Balancete de Despesas
B4: =RAZÃO!B4 -> Período : 01/07/2023 a 31/07/2023
B5: Data | C5: Histórico | D5: Valor
B6: 21/07/2023 | C6: COMPRA CONF. N.FISCAL N. 305 - SUPER ANTENAS E SUPER ALARMES LTDA | D6: 2070 | F6: docto.
B7: 21/07/2023 | C7: NF. SERVIÇOS 815 - SUPER ANTENAS E SUPER ALARMES LTDA | D7: 700 | F7: docto.
B8: 27/07/2023 | C8: NF. SERVIÇOS 816 - SUPER ANTENAS E SUPER ALARMES LTDA | D8: 1700 | E8: retorna | F8: docto.
C10: Total | D10: =SUM(D6:D9) -> 4470

Sheet 16.
B2: MORADA DO SOL TURISMO, EVENTOS E PARTICIPAÇÕES S/A
B3: Balancete de Despesas
B4: =RAZÃO!B4 -> Período : 01/07/2023 a 31/07/2023
B5: Data | C5: Histórico | D5: Valor
B6: 12/07/2023 | C6: COMPRA CONF. N.FISCAL N. 11553 | D6: 155.4 | E6: retorna | F6: docto.
C8: Total | D8: =SUM(D6:D7) -> 155.4

Sheet 17.
B2: MORADA DO SOL TURISMO, EVENTOS E PARTICIPAÇÕES S/A
B3: Balancete de Despesas
B4: =RAZÃO!B4 -> Período : 01/07/2023 a 31/07/2023
B5: Data | C5: Histórico | D5: Valor
B6: 25/07/2023 | C6: REEMBOLSO DA VIAGEM PARA SP MANOEL DE ARAUJO SOBRINHO | D6: 1413.03 | E6: retorna | F6: docto.
C8: Total | D8: =SUM(D6:D7) -> 1413.03

Sheet 18.
B2: MORADA DO SOL TURISMO, EVENTOS E PARTICIPAÇÕES S/A
B3: Balancete de Despesas
B4: =RAZÃO!B4 -> Período : 01/07/2023 a 31/07/2023
B5: Data | C5: Histórico | D5: Valor
B6: 31/07/2023 | C6: Depreciação do período : 07/2023 | D6: 37.48 | F6: docto.
B7: 31/07/2023 | C7: Depreciação do período : 07/2023 | D7: 169.54 | F7: docto.
B8: 31/07/2023 | C8: Depreciação do período : 07/2023 | D8: 166.43 | E8: retorna | F8: docto.
C10: Total | D10: =SUM(D6:D9) -> 373.45

Sheet 19.
B2: MORADA DO SOL TURISMO, EVENTOS E PARTICIPAÇÕES S/A
B3: Balancete de Despesas
B4: =RAZÃO!B4 -> Período : 01/07/2023 a 31/07/2023
B5: Data | C5: Histórico | D5: Valor
B6: 31/07/2023 | C6: Depreciação do período : 07/2023 | D6: 2374.69 | F6: docto.
B7: 31/07/2023 | C7: Depreciação do período : 07/2023 | D7: 368.95 | E7: retorna | F7: docto.
C9: Total | D9: =SUM(D6:D8) -> 2743.64

Sheet 20.
B2: MORADA DO SOL TURISMO, EVENTOS E PARTICIPAÇÕES S/A
B3: Balancete de Despesas
B4: =RAZÃO!B4 -> Período : 01/07/2023 a 31/07/2023
B5: Data | C5: Histórico | D5: Valor
B6: 45119 | C6: JUROS ATIVOS REFERENTES - CONTRATO N. 181/2023 - DBD PROMOÇÃO - REALIZADO 15/07/2023 | D6: -2943.14 | E6: retorna | F6: docto.
C8: Total | D8: =SUM(D6:D7) -> -2943.14

Sheet 21.
B2: MORADA DO SOL TURISMO, EVENTOS E PARTICIPAÇÕES S/A
B3: Balancete de Despesas
B4: =RAZÃO!B4 -> Período : 01/07/2023 a 31/07/2023
B5: Data | C5: Histórico | D5: Valor
B6: 31/07/2023 | C6: PAGTO REF. PIS/COFINS/CSLL/IRPJ PARCELA 12/35 | D6: 310.26 | F6: docto.
B7: 31/07/2023 | C7: PAGTO REF. ENCARGOS TRIBUTOS VENCIDOS PARCELAMENTO IRPJ PARCELA 54/60 | D7: 278.79 | F7: docto.
B8: 31/07/2023 | C8: PAGTO REF. ENCARGOS SOBRE TRIBUTOS PARCELAMENTO IRPJ PARCELA 29/33 | D8: 207.46 | E8: retorna | F8: docto.
C10: Total | D10: =SUM(D6:D9) -> 796.51

Sheet 22.
B2: MORADA DO SOL TURISMO, EVENTOS E PARTICIPAÇÕES S/A
B3: Balancete de Despesas
B4: =RAZÃO!B4 -> Período : 01/07/2023 a 31/07/2023
B5: Data | C5: Histórico | D5: Valor
B6: 03/07/2023 | C6: PAGTO REF. TARIFA MANUTENÇÃO CONTA ATIVA | D6: 32.5 | F6: docto.
B7: 07/07/2023 | C7: PAGTO REF. TARIFA DE COBRANÇA | D7: 2.5 | F7: docto.
B8: 11/07/2023 | C8: PAGTO REF. TARIFA COBRANÇA | D8: 2.5 | F8: docto.
B9: 13/07/2023 | C9: PAGTO REF. TARIFA COBRANÇA | D9: 2.5 | F9: docto.
B10: 25/07/2023 | C10: PAGTO REF. TARIFA COBRANÇA | D10: 5 | E10: retorna | F10: docto.
C12: Total | D12: =SUM(D6:D11) -> 45

Sheet 23.
B2: MORADA DO SOL TURISMO, EVENTOS E PARTICIPAÇÕES S/A
B3: Balancete de Despesas
B4: =RAZÃO!B4 -> Período : 01/07/2023 a 31/07/2023
B5: Data | C5: Histórico | D5: Valor
B6: 45138 | C6: IRRF S/RENDIMENTO RDC 07/2023 | D6: 793.13 | E6: retorna | F6: docto.
C8: Total | D8: =SUM(D6:D7) -> 793.13

Sheet 24.
B2: MORADA DO SOL TURISMO, EVENTOS E PARTICIPAÇÕES S/A
B3: Balancete de Despesas
B4: =RAZÃO!B4 -> Período : 01/07/2023 a 31/07/2023
B5: Data | C5: Histórico | D5: Valor
B6: 45138 | C6: VR. A SER PAGO REF. 07/2023 | D6: 2413.44 | E6: retorna | F6: docto.
C8: Total | D8: =SUM(D6:D7) -> 2413.44

Sheet 25.
B2: MORADA DO SOL TURISMO, EVENTOS E PARTICIPAÇÕES S/A
B3: Balancete de Despesas
B4: =RAZÃO!B4 -> Período : 01/07/2023 a 31/07/2023
B5: Data | C5: Histórico | D5: Valor
B6: 45138 | C6: VR. A SER PAGO REF. 07/2023 | D6: 4022.4 | E6: retorna | F6: docto.
C8: Total | D8: =SUM(D6:D7) -> 4022.4
