Workbook

Sheet RAZÃO
B2: MORADA DO SOL TURISMO, EVENTOS E PARTICIPAÇÕES S/A
B3: Balancete de Despesas
B4: Período : 01/02/2024 a 29/02/2024
E5: VALOR | F5: DETALHE
B6: IMPOSTOS SOBRE RECEITA BRUTA
C7: 1. | D7: Cofins | E7: ='1.'!D6 -> 2588.13 | F7: abertura
C8: 2. | D8: Pis | E8: ='2.'!D6 -> 560.76 | F8: abertura
B9: SERVIÇOS DE TERCEIROS PESSOA FÍSICA
C10: 3. | D10: Honorários Advocatícios | E10: ='3.'!D11 -> 3400 | F10: abertura
C11: 4. | D11: Prestação de Serviços Pessoa Física | E11: ='4.'!D16 -> 6745.13 | F11: abertura
C12: 5. | D12: Prestação de Serviços Pessoa Juridica | E12: ='5.'!D8 -> 2094 | F12: abertura
B13: REMUNERAÇÃO DIRETORIA/CONSELHO/PESSOAL
C14: 6. | D14: Manoel de Araujo Sobrinho | E14: ='6.'!D8 -> 13347.14 | F14: abertura
C15: 6. | D15: Saba José Harb | E15: ='6.'!D9 -> 6865.13 | F15: abertura
C16: 6. | D16: Carlos Eduardo Delbon | E16: ='6.'!D6 -> 2363.57 | F16: abertura
C17: 6. | D17: Donizete Simioni | E17: ='6.'!D7 -> 2363.57 | F17: abertura
C18: 6. | D18: Mario Zafallon Junior | E18: ='6.'!D10 -> 2363.57 | F18: abertura
C19: 6. | D19: Nelson Kiyoshi Hisatsuga | E19: ='6.'!D13 -> 2363.57 | F19: abertura
C20: 6. | D20: Salua Kairuz Manoel | E20: ='6.'!D11 -> 2363.57 | F20: abertura
C21: 6. | D21: Jefferson Henrique Rosseti | E21: ='6.'!D12 -> 4317.02 | F21: abertura
B22: ENCARGOS SOCIAIS
C23: 7. | D23: INSS sobre remuneração Autônomos | E23: ='7.'!D8 -> 2029.03 | F23: abertura
C24: 8. | D24: INSS sobre remuneração Diretores | E24: ='8.'!D9 -> 7269.43 | F24: abertura
B25: GASTOS DIVERSOS
C26: 9. | D26: Despesas de Telefona/Internet | E26: ='9.'!D8 -> 139.99 | F26: abertura
C27: 10. | D27: Correios e Sedex | E27: ='10.'!D10 -> 40.08 | F27: abertura
C28: 11. | D28: Honorarios Contábeis | E28: ='11.'!D8 -> 3200 | F28: abertura
C29: 12. | D29: Impostos e Taxas | E29: ='12.'!D8 -> 1132.85 | F29: abertura
C30: 13. | D30: Combustiveis e Lubrificantes | E30: ='13.'!D8 -> 121.94 | F30: abertura
C31: 14. | D31: Manutenção e Conservação de Imoveis | E31: ='14.'!D13 -> 1663.97 | F31: abertura
C32: 15. | D32: Material de Uso e Cosumo | E32: ='15.'!D17 -> 2256.14 | F32: abertura
C33: 16. | D33: Impressos/Xerox/Mat. Escritorio | E33: ='16.'!D9 -> 595 | F33: abertura
C34: 17. | D34: Premios de Seguro | E34: ='17.'!D8 -> 102 | F34: abertura
C35: 18. | D35: Viagens e Estadias | E35: ='18.'!D9 -> 2929.3 | F35: abertura
C36: 19. | D36: Depreciação | E36: ='19.'!D9 -> 361.54 | F36: abertura
C37: 20. | D37: Depreciação - Imoveis | E37: ='20.'!D9 -> 2743.64 | F37: abertura
B38: DESPESAS/RECEITAS FINANCEIRAS
C39: 21. | D39: Encargos s/ Tributos Vencidos | E39: ='21.'!D8 -> 345.27 | F39: abertura
C40: 22. | D40: Descontos Obtidos | E40: ='22.'!D8 -> 0 | F40: abertura
C41: 23. | D41: Despesas Bancárias | E41: ='23.'!D9 -> 35 | F41: abertura
...

Sheet 1.
B2: MORADA DO SOL TURISMO, EVENTOS E PARTICIPAÇÕES S/A
B3: Balancete de Despesas
B4: =RAZÃO!B4 -> Período : 01/02/2024 a 29/02/2024
B5: Data | C5: Histórico | D5: Valor
B6: 29/02/2024 | C6: Devido s/receita operacional d/mes | D6: 2588.13 | E6: retorna | F6: docto.

Sheet 2.
B2: MORADA DO SOL TURISMO, EVENTOS E PARTICIPAÇÕES S/A
B3: Balancete de Despesas
B4: =RAZÃO!B4 -> Período : 01/02/2024 a 29/02/2024
B5: Data | C5: Histórico | D5: Valor
B6: 29/02/2024 | C6: Devido s/receita operacional d/mes | D6: 560.76 | E6: retorna | F6: docto.

Sheet 3.
B2: MORADA DO SOL TURISMO, EVENTOS E PARTICIPAÇÕES S/A
B3: Balancete de Despesas
B4: =RAZÃO!B4 -> Período : 01/02/2024 a 29/02/2024
B5: Data | C5: Histórico | D5: Valor
B6: 28/02/2024 | C6: VR. A SER PAGO REF. ALINE MARIA PEREIRA | D6: 1513 | F6: docto.
B7: 28/02/2024 | C7: VR. A SER PAGO REF. INSS 02/2024 ALINE MARIA PEREIRA | D7: 187 | F7: docto.
B8: 28/02/2024 | C8: VR. A SER PAGO REF. FERNANDA CILIA MARAFÃO BRUNETTI | D8: 1513 | F8: docto.
B9: 28/02/2024 | C9: VR. A SER PAGO REF. INSS 02/2024 FERNANDA CILIA MARAFAO BRUNETTI | D9: 187 | E9: retorna | F9: docto.
C11: Total | D11: =SUM(D6:D10) -> 3400

Sheet 4.
B2: MORADA DO SOL TURISMO, EVENTOS E PARTICIPAÇÕES S/A
B3: Balancete de Despesas
B4: =RAZÃO!B4 -> Período : 01/02/2024 a 29/02/2024
B5: Data | C5: Histórico | D5: Valor
B6: 28/02/2024 | C6: VR. A SER PAGO REF. EDUARDO GUSTAVO BUZZA | D6: 850 | F6: docto.
B7: 28/02/2024 | C7: VR. A SER PAGO REF. INSS 02/2024 EDUARDO GUSTAVO BUZZA | D7: 105.05 | F7: docto.
B8: 28/02/2024 | C8: VR. A SER PAGO REF. JANOEL SANTOS DA SILVA | D8: 2950 | F8: docto.
B9: 28/02/2024 | C9: VR. A SER PAGO REF. 02/2024 JANOEL SANTOS DA SILVA | D9: 369.57 | F9: docto.
B10: 28/02/2024 | C10: VR. A SER PAGO REF. IRRF 02/2024 JANOEL SANTOS DA SILVA | D10: 40.18 | F10: docto.
B11: 29/02/2024 | C11: VR. A SER PAGO REF. RENAN ALTINO BRESSAN | D11: 650 | F11: docto.
B12: 29/02/2024 | C12: VR. A SER PAGO REF. INSS 02/2024 RENAN ALTINO BRESSAN | D12: 80.33 | F12: docto.
B13: 29/02/2024 | C13: VR. A SER PAGO REF. STEYCE CHAVES GOMES | D13: 1513 | F13: docto.
B14: 29/02/2024 | C14: VR. A SER PAGO REF. INSS 02/2024 STEYCE CHAVES GOMES | D14: 187 | E14: retorna | F14: docto.
C16: Total | D16: =SUM(D6:D15) -> 6745.13

Sheet 5.
B2: MORADA DO SOL TURISMO, EVENTOS E PARTICIPAÇÕES S/A
B3: Balancete de Despesas
B4: =RAZÃO!B4 -> Período : 01/02/2024 a 29/02/2024
B5: Data | C5: Histórico | D5: Valor
B6: 26/02/2024 | C6: NF. SERVIÇOS 11 - INDIAMARA MOURA SIQUEIRA | D6: 2094 | E6: retorna | F6: docto.
C8: Total | D8: =SUM(D6:D7) -> 2094

Sheet 6.
B2: MORADA DO SOL TURISMO, EVENTOS E PARTICIPAÇÕES S/A
B3: Balancete de Despesas
B4: =RAZÃO!B4 -> Período : 01/02/2024 a 29/02/2024
B5: Data | C5: Histórico | D5: Valor
B6: 29/02/2024 | C6: Honorarios Diretoria Carlos Eduardo Delbon | D6: 2363.57 | F6: docto.
B7: 29/02/2024 | C7: Honorarios Diretoria Donizete Simioni | D7: 2363.57 | F7: docto.
B8: 29/02/2024 | C8: Honorarios Diretoria Manoel de Araujo Sobrinho | D8: 13347.14 | F8: docto.
B9: 29/02/2024 | C9: Honorarios Diretoria Saba Jose Harb | D9: 6865.13 | F9: docto.
B10: 29/02/2024 | C10: Honorarios Conselho Fiscal Mario Zafallon Junior | D10: 2363.57 | F10: docto.
B11: 29/02/2024 | C11: Honorarios Conselho Fiscal Saula Kairuz Manoel | D11: 2363.57 | F11: docto.
B12: 29/02/2024 | C12: Honorarios Diretoria Jefferson Henrique Rosseti | D12: 4317.02 | F12: docto.
B13: 29/02/2024 | C13: Honorarios Conselho Fiscal Nelson Kiyoshi Hisatsuga | D13: 2363.57 | E13: retorna | F13: docto.
D15: =SUM(D6:D14) -> 36347.14

Sheet 7.
B2: MORADA DO SOL TURISMO, EVENTOS E PARTICIPAÇÕES S/A
B3: Balancete de Despesas
B4: =RAZÃO!B4 -> Período : 01/02/2024 a 29/02/2024
B5: Data | C5: Histórico | D5: Valor
B6: 29/02/2024 | C6: VR. A SER PAGO REF. 02/2024 INSS S/REMUNERAÇÃO AUTONOMOS | D6: 2029.03 | E6: retorna | F6: docto.
C8: Total | D8: =SUM(D6:D7) -> 2029.03

Sheet 8.
B2: MORADA DO SOL TURISMO, EVENTOS E PARTICIPAÇÕES S/A
B3: Balancete de Despesas
B4: =RAZÃO!B4 -> Período : 01/02/2024 a 29/02/2024
B5: Data | C5: Histórico | D5: Valor
B6: 29/02/2024 | C6: VR. A SER PAGO REF. 02/2024 REF. REMUNERAÇÃO DOS DIRETORES | D6: 7269.43 | E6: retorna | F6: docto.
C9: Total | D9: =SUM(D6:D8) -> 7269.43

Sheet 9.
B2: MORADA DO SOL TURISMO, EVENTOS E PARTICIPAÇÕES S/A
B3: Balancete de Despesas
B4: =RAZÃO!B4 -> Período : 01/02/2024 a 29/02/2024
B5: Data | C5: Histórico | D5: Valor
B6: 21/02/2024 | C6: PAGO NOTA FISCAL TELEFONICA BRASIL S/A | D6: 139.99 | E6: retorna | F6: docto.
C8: Total | D8: =SUM(D6:D7) -> 139.99

Sheet 10.
B2: MORADA DO SOL TURISMO, EVENTOS E PARTICIPAÇÕES S/A
B3: Balancete de Despesas
B4: =RAZÃO!B4 -> Período : 01/02/2024 a 29/02/2024
B5: Data | C5: Histórico | D5: Valor
B6: 05/02/2024 | C6: PAGTO REF. ENVIO DOS PRODUTOS NF 14335 KF ASSESSORIA COMERCIO E SERVIÇOS LTDA | D6: 14 | F6: docto.
B7: 23/02/2024 | C7: PAGTO REF. TAXA CORREIOS CONF. NF 226379 LOJA DO RODIZIO LTDA | D7: 15.1 | F7: docto.
B8: 23/02/2024 | C8: PAGTO REF. TAXA DE ENTREGA CORREIOS CONF. COMPRA NF. 78748 COMPANY ECOMMERCE LTDA | D8: 10.98 | E8: retorna | F8: docto.
C10: Total | D10: =SUM(D6:D9) -> 40.08

Sheet 11.
B2: MORADA DO SOL TURISMO, EVENTOS E PARTICIPAÇÕES S/A
B3: Balancete de Despesas
B4: =RAZÃO!B4 -> Período : 01/02/2024 a 29/02/2024
B5: Data | C5: Histórico | D5: Valor
B6: 23/02/2024 | C6: NF. SERVIÇOS 1892 INOVACONT ASSESSORA CONTABIL LTDA | D6: 3200 | E6: retorna | F6: docto.
C8: Total | D8: =SUM(D6:D7) -> 3200

Sheet 12.
B2: MORADA DO SOL TURISMO, EVENTOS E PARTICIPAÇÕES S/A
B3: Balancete de Despesas
B4: =RAZÃO!B4 -> Período : 01/02/2024 a 29/02/2024
B5: Data | C5: Histórico | D5: Valor
B6: 07/02/2024 | C6: PAGTO REF. CUSTAS CVM JUSTIÇA FEDERAL DE PRIMEIRO GRAU SP | D6: 1132.85 | E6: retorna | F6: docto.
C8: Total | D8: =SUM(D6:D7) -> 1132.85

Sheet 13.
B2: MORADA DO SOL TURISMO, EVENTOS E PARTICIPAÇÕES S/A
B3: Balancete de Despesas
B4: =RAZÃO!B4 -> Período : 01/02/2024 a 29/02/2024
B5: Data | C5: Histórico | D5: Valor
B6: 07/02/2024 | C6: PAGTO AO AUTO POSTO DALAS CONF. SAT 739.686 - COMBUSTÍVEL PARA O CORTADOR DE GRAMA | D6: 121.94 | E6: retorna | F6: docto.
C8: Total | D8: =SUM(D6:D7) -> 121.94

Sheet 14.
B2: MORADA DO SOL TURISMO, EVENTOS E PARTICIPAÇÕES S/A
B3: Balancete de Despesas
B4: =RAZÃO!B4 -> Período : 01/02/2024 a 29/02/2024
B5: Data | C5: Histórico | D5: Valor
B6: 06/02/2024 | C6: COMPRA CONF. N.FISCAL N. 29141 AMAURI ALVES FERREIRA MAQUINAS EPP | D6: 870 | F6: docto.
B7: 06/02/2024 | C7: COMPRA CONF. N.FISCAL N. 29201 AMAURI ALVES FERREIRA MAQUINAS EPP | D7: 179 | F7: docto.
B8: 27/02/2024 | C8: COMPRA CONF. N.FISCAL N. 28346 NACONTATOTEM VAREJO LTDA | D8: 246.06 | F8: docto.
B9: 28/02/2024 | C9: COMPRA CONF. N.FISCAL N. 28386 NACONTATOTEM VAREJO LTDA | D9: 68.26 | F9: docto.
B10: 28/02/2024 | C10: COMPRA CONF. N.FISCAL N. 29637 BLANCO E PIAO COM. DE PARAFUSOS LTDA | D10: 251.65 | F10: docto.
B11: 29/02/2024 | C11: COMPRA CONF. N.FISCAL N. 40823 | D11: 49 | E11: retorna | F11: docto.
C13: Total | D13: =SUM(D6:D12) -> 1663.97

Sheet 15.
B2: MORADA DO SOL TURISMO, EVENTOS E PARTICIPAÇÕES S/A
B3: Balancete de Despesas
B4: =RAZÃO!B4 -> Período : 01/02/2024 a 29/02/2024
B5: Data | C5: Histórico | D5: Valor
B6: 02/02/2024 | C6: COMPRA CONF. N.FISCAL N. 35580 - LUIS FELIPE S. VASCONCELLOS COM. DE VARIEDADES | D6: 738 | F6: docto.
B7: 03/02/2024 | C7: COMPRA CONF. N.FISCAL N. 224230 - LOJA DO RODIZIO LTDA | D7: 133 | F7: docto.
B8: 06/02/2024 | C8: COMPRA CONF. N.FISCAL N.14335 - KF ASSESSORIA COMERCIO E SERVIÇOS LTDA | D8: 78.93 | F8: docto.
B9: 23/02/2024 | C9: COMPRA CONF. N.FISCAL N. 7312 - ROBERTA ZANON ELETRONICOS ME | D9: 315.96 | F9: docto.
B10: 23/02/2024 | C10: COMPRA CONF. N.FISCAL N. 78748 COMPANY ECOMMERCE LTDA | D10: 56.33 | F10: docto.
B11: 24/02/2024 | C11: COMPRA CONF. N.FISCAL N. 487934 GREYCOM LTDA | D11: 165.17 | F11: docto.
B12: 24/02/2024 | C12: COMPRA CONF. N.FISCAL N. 226379 | D12: 59.85 | F12: docto.
B13: 24/02/2024 | C13: COMPRA CONF. N.FISCAL N. 8655 SLA COMERCIO DE MATERIAIS ELETRICOS LTDA | D13: 119 | F13: docto.
B14: 26/02/2024 | C14: COMPRA CONF. N.FISCAL N. 781 | D14: 173 | F14: docto.
B15: 28/02/2024 | C15: COMPRA CONF. N.FISCAL N. 16823 HI TEC DE ARARAQUARA ELETRONICA LTDA | D15: 416.9 | E15: retorna | F15: docto.
C17: Total | D17: =SUM(D6:D16) -> 2256.14

Sheet 16.
B2: MORADA DO SOL TURISMO, EVENTOS E PARTICIPAÇÕES S/A
B3: Balancete de Despesas
B4: =RAZÃO!B4 -> Período : 01/02/2024 a 29/02/2024
B5: Data | C5: Histórico | D5: Valor
B6: 05/02/2024 | C6: NF. SERVIÇOS 1323 - C. E. R. VICENTE ME | D6: 555 | F6: docto.
B7: 05/02/2024 | C7: NF. SERVIÇOS 1324 - C. E. R. VICENTE ME | D7: 40 | E7: retorna | F7: docto.
C9: Total | D9: =SUM(D6:D8) -> 595

Sheet 17.
B2: MORADA DO SOL TURISMO, EVENTOS E PARTICIPAÇÕES S/A
B3: Balancete de Despesas
B4: =RAZÃO!B4 -> Período : 01/02/2024 a 29/02/2024
B5: Data | C5: Histórico | D5: Valor
B6: 29/02/2024 | C6: APROPRIAÇÃO PARCELA 01/12 | D6: 102 | E6: retorna | F6: docto.
C8: Total | D8: =SUM(D6:D7) -> 102

Sheet 18.
B2: MORADA DO SOL TURISMO, EVENTOS E PARTICIPAÇÕES S/A
B3: Balancete de Despesas
B4: =RAZÃO!B4 -> Período : 01/02/2024 a 29/02/2024
B5: Data | C5: Histórico | D5: Valor
B6: 07/02/2024 | C6: PAGTO REF. REEMBOLSO DE DEPESAS COM VIAGENS E ESTADIAS AO PRESIDENTE MANOEL DE ARAUJO SOBRINHO CONF. RELATÓRIO DE DESPESAS. | D6: 1068.54 | F6: docto.
B7: 07/02/2024 | C7: PAGTO REF. REEMBOLSO DE DEPESAS COM VIAGENS E ESTADIAS AO PRESIDENTE MANOEL DE ARAUJO SOBRINHO CONF. RELATÓRIO DE DESPESAS. | D7: 1860.76 | E7: retorna | F7: docto.
C9: Total | D9: =SUM(D6:D8) -> 2929.3

Sheet 19.
B2: MORADA DO SOL TURISMO, EVENTOS E PARTICIPAÇÕES S/A
B3: Balancete de Despesas
B4: =RAZÃO!B4 -> Período : 01/02/2024 a 29/02/2024
B5: Data | C5: Histórico | D5: Valor
B6: 29/02/2024 | C6: Depreciação do período : 02/2024 | D6: 169.54 | F6: docto.
B7: 29/02/2024 | C7: Depreciação do período : 02/2024 | D7: 192 | E7: retorna | F7: docto.
C9: Total | D9: =SUM(D6:D8) -> 361.54

Sheet 20.
B2: MORADA DO SOL TURISMO, EVENTOS E PARTICIPAÇÕES S/A
B3: Balancete de Despesas
B4: =RAZÃO!B4 -> Período : 01/02/2024 a 29/02/2024
B5: Data | C5: Histórico | D5: Valor
B6: 29/02/2024 | C6: Depreciação do período : 02/2024 | D6: 2374.69 | F6: docto.
B7: 29/02/2024 | C7: Depreciação do período : 02/2024 | D7: 368.95 | E7: retorna | F7: docto.
C9: Total | D9: =SUM(D6:D8) -> 2743.64

Sheet 21.
B2: MORADA DO SOL TURISMO, EVENTOS E PARTICIPAÇÕES S/A
B3: Balancete de Despesas
B4: =RAZÃO!B4 -> Período : 01/02/2024 a 29/02/2024
B5: Data | C5: Histórico | D5: Valor
B6: 29/02/2024 | C6: PAGTO REF. PG PIS/COFINS/CSLL/IRPJ PARCELA 19/35 | D6: 345.27 | E6: retorna | F6: docto.
C8: Total | D8: =SUM(D6:D7) -> 345.27

Sheet 22.
B2: MORADA DO SOL TURISMO, EVENTOS E PARTICIPAÇÕES S/A
B3: Balancete de Despesas
B4: =RAZÃO!B4 -> Período : 01/02/2024 a 29/02/2024
B5: Data | C5: Histórico | D5: Valor
B6: 31/01/2024 | C6: DESCONTO OBTIDO REF. NF 3761 - C. S. SOBRAL MATERIAIS PARA CONSTRUÇÃO | E6: retorna | F6: docto.
C8: Total | D8: =SUM(D6:D7) -> 0

Sheet 23.
B2: MORADA DO SOL TURISMO, EVENTOS E PARTICIPAÇÕES S/A
B3: Balancete de Despesas
B4: =RAZÃO!B4 -> Período : 01/02/2024 a 29/02/2024
B5: Data | C5: Histórico | D5: Valor
B6: 01/02/2024 | C6: PAGTO REF. TARIFA MANUTENÇÃO CONTA ATIVA | D6: 32.5 | F6: docto.
B7: 19/02/2024 | C7: PAGTO REF. TARIFA COBRANÇA | D7: 2.5 | E7: retorna | F7: docto.
C9: Total | D9: =SUM(D6:D8) -> 35

Sheet 24.
B2: MORADA DO SOL TURISMO, EVENTOS E PARTICIPAÇÕES S/A
B3: Balancete de Despesas
B4: =RAZÃO!B4 -> Período : 01/02/2024 a 29/02/2024
B5: Data | C5: Histórico | D5: Valor
B6: 29/02/2024 | C6: IOF S/RENDIMENTOS RDC 02/2024 | D6: 47.39 | E6: retorna | F6: docto.
C8: Total | D8: =SUM(D6:D7) -> 47.39

Sheet 25.
B2: MORADA DO SOL TURISMO, EVENTOS E PARTICIPAÇÕES S/A
B3: Balancete de Despesas
B4: =RAZÃO!B4 -> Período : 01/02/2024 a 29/02/2024
B5: Data | C5: Histórico | D5: Valor
B6: 29/02/2024 | C6: IRRF S/RENDIMENTOS RDC 02/2024 | D6: 78.98 | E6: retorna | F6: docto.
C8: Total | D8: =SUM(D6:D7) -> 78.98

Sheet 26.
B2: MORADA DO SOL TURISMO, EVENTOS E PARTICIPAÇÕES S/A
B3: Balancete de Despesas
B4: =RAZÃO!B4 -> Período : 01/02/2024 a 29/02/2024
B5: Data | C5: Histórico | D5: Valor
B6: 29/02/2024 | C6: VR. A SER PAGO REF. 02/2029 | D6: 2484.6 | E6: retorna | F6: docto.
C8: Total | D8: =SUM(D6:D7) -> 2484.6

Sheet 27.
B2: MORADA DO SOL TURISMO, EVENTOS E PARTICIPAÇÕES S/A
B3: Balancete de Despesas
B4: =RAZÃO!B4 -> Período : 01/02/2024 a 29/02/2024
B5: Data | C5: Histórico | D5: Valor
B6: 29/02/2024 | C6: VR. A SER PAGO REF. 02/2024 | D6: 4141 | E6: retorna | F6: docto.
C8: Total | D8: =SUM(D6:D7) -> 4141
