Workbook

Sheet RAZÃO
B2: MORADA DO SOL TURISMO, EVENTOS E PARTICIPAÇÕES S/A
B3: Balancete de Despesas / Resumo de Competência
B4: Período : 01/12/2025 a 31/12/2025
E5: VALOR | F5: DETALHE
B6: IMPOSTOS SOBRE RECEITA BRUTA
C7: 1. | D7: Cofins | E7: ='1.'!D6 -> 2807.29 | F7: abertura
C8: 2. | D8: Pis | E8: ='2.'!D6 -> 608.25 | F8: abertura
B9: SERVIÇOS DE TERCEIROS PESSOA FÍSICA
C10: 3. | D10: Honorários Advocatícios | E10: ='3.'!D12 -> 2000 | F10: abertura
C11: 4. | D11: Prestação de Serviços Pessoa Física | E11: ='4.'!D10 -> 0 | F11: abertura
C12: 5. | D12: Prestação de Serviços Pessoa Juridica | E12: ='5.'!D10 -> 3064.7 | F12: abertura
B13: REMUNERAÇÃO DIRETORIA/CONSELHO/PESSOAL
C14: 6. | D14: Carlos Eduardo Delbon | E14: ='6.'!D6 -> 4723.53 | F14: abertura
C15: 6. | D15: Danielle Cristina Real de Aquino | E15: ='6.'!D7 -> 0 | F15: abertura
C16: 6. | D16: Gabriela da Vinha De Lorenzo Souza | E16: ='6.'!D8 -> 7511.59 | F16: abertura
C17: 6. | D17: Leandro Guidolim | E17: ='6.'!D11 -> 2586.13 | F17: abertura
C18: 6. | D18: Leonora Arnoldi Martins Ferreira | E18: ='6.'!D9 -> 14603.97 | F18: abertura
C19: 6. | D19: Paula Cristina Cardoso Benedicto | E19: ='6.'!D12 -> 2586.13 | F19: abertura
C20: 6. | D20: Pedro Evangelista Monteiro Neto | E20: ='6.'!D13 -> 2586.13 | F20: abertura
C21: 6. | D21: Roberto Pereira | E21: ='6.'!D14 -> 2586.13 | F21: abertura
C22: 6. | D22: Vanessa Kein Botelho | E22: ='6.'!D10 -> 4723.53 | F22: abertura
C23: 6. | D23: Victor Tadeu de Oliveira | E23: ='6.'!D15 -> 2586.13 | F23: abertura
B24: ENCARGOS SOCIAIS
C25: 7. | D25: INSS sobre remuneração Autônomos | E25: ='7.'!D8 -> 400 | F25: abertura
C26: 8. | D26: INSS sobre remuneração Diretores | E26: ='8.'!D9 -> 8898.65 | F26: abertura
B27: GASTOS DIVERSOS
C28: 9. | D28: Despesas de Telefona/Internet | E28: ='9.'!D11 -> 348 | F28: abertura
C29: 10. | D29: Honorarios Contábeis | E29: ='10.'!D10 -> 3200 | F29: abertura
C30: 11. | D30: Despesas /Manutenção /Material de Escritório | E30: ='11.'!D8 -> 198.8 | F30: abertura
C31: 12. | D31: Premios de Seguro | E31: ='12.'!D10 -> 164.91 | F31: abertura
C32: 13. | D32: Despesas Gerais | E32: ='13.'!D12 -> 1619.2 | F32: abertura
C33: 14. | D33: Depreciação | E33: ='14.'!D10 -> 252.18 | F33: abertura
C34: 15. | D34: Depreciação - Imoveis | E34: ='15.'!D9 -> 2743.64 | F34: abertura
C35: 16. | D35: Publicações | E35: ='16.'!D10 -> 0 | F35: abertura
B36: DESPESAS/RECEITAS FINANCEIRAS
C37: 17. | D37: Despesas Bancárias | E37: ='17.'!D10 -> 42.5 | F37: abertura
C38: 18. | D38: IOF s/ Aplicações Financeiras | E38: ='18.'!D8 -> 0 | F38: abertura
C39: 19. | D39: IRRF s/Aplicacoes Financeiras | E39: 770.32 | F39: abertura
C40: 20. | D40: CSLL | E40: ='20.'!D8 -> 2695.01 | F40: abertura
C41: 21. | D41: IRPJ | E41: ='21.'!D9 -> 7566.67 | F41: abertura
...

Sheet 1.
B2: MORADA DO SOL TURISMO, EVENTOS E PARTICIPAÇÕES S/A
B3: Balancete de Despesas / Resumo de Competência
B4: =RAZÃO!B4 -> Período : 01/12/2025 a 31/12/2025
B5: Data | C5: Histórico | D5: Valor
B6: 31/12/2025 | C6: 933- VR. A SER PAGO REF. 12/2025 (COFINS) | D6: 2807.29 | E6: retorna | F6: docto.

Sheet 2.
B2: MORADA DO SOL TURISMO, EVENTOS E PARTICIPAÇÕES S/A
B3: Balancete de Despesas / Resumo de Competência
B4: =RAZÃO!B4 -> Período : 01/12/2025 a 31/12/2025
B5: Data | C5: Histórico | D5: Valor
B6: 31/12/2025 | C6: 934 - VR. A SER PAGO REF. 12/2025 (PIS) | D6: 608.25 | E6: retorna | F6: docto.

Sheet 3.
B2: MORADA DO SOL TURISMO, EVENTOS E PARTICIPAÇÕES S/A
B3: Balancete de Despesas
B4: =RAZÃO!B4 -> Período : 01/12/2025 a 31/12/2025
B5: Data | C5: Histórico | D5: Valor
B6: 31/12/2025 | C6: 878 - VR. A SER PAGO REF. FERNANDA CILIA MARAFÃO BRUNETTI | D6: 2000 | E6: retorna | F6: docto.
E7: retorna | F7: docto.
E8: retorna | F8: docto.
E9: retorna | F9: docto.
C12: Total | D12: =SUM(D6:D11) -> 2000

Sheet 4.
B2: MORADA DO SOL TURISMO, EVENTOS E PARTICIPAÇÕES S/A
B3: Balancete de Despesas
B4: =RAZÃO!B4 -> Período : 01/12/2025 a 31/12/2025
B5: Data | C5: Histórico | D5: Valor
F6: docto.
F7: docto.
E8: retorna
C10: Total | D10: =SUM(D6:D9) -> 0

Sheet 5.
B2: MORADA DO SOL TURISMO, EVENTOS E PARTICIPAÇÕES S/A
B3: Balancete de Despesas
B4: =RAZÃO!B4 -> Período : 01/12/2025 a 31/12/2025
B5: Data | C5: Histórico | D5: Valor
B6: 30/12/2025 | C6: 941- NF. SERVIÇOS 66 - INDIAMARA MOURA SIQUEIRA | D6: 2194 | F6: docto.
B7: 01/12/2025 | C7: 909-NF.SERVIÇOS 2534703 UNIMED DE ARARAQUARA COOP TRABALHO MÉDICO | D7: 853.35 | F7: docto.
B8: 16/12/2025 | C8: 908- PAGTO MULTA/JURO REF. NOTA FISCAL Nº 2534703 UNIMED DE ARARAQUARA | D8: 17.35 | F8: docto.
E9: retorna
C10: Total | D10: =SUM(D6:D9) -> 3064.7

Sheet 6.
B2: MORADA DO SOL TURISMO, EVENTOS E PARTICIPAÇÕES S/A
B3: Balancete de Despesas
B4: =RAZÃO!B4 -> Período : 01/12/2025 a 31/12/2025
B5: Data | C5: Histórico | D5: Valor
B6: 31/12/2025 | C6: 867- Honorarios Diretoria Carlos Eduardo Delbon | D6: 4723.53 | F6: docto.
F7: docto.
B8: 31/12/2025 | C8: 868- Honorarios Diretoria Gabriela da Vinha De Lorenzo Souza | D8: 7511.59 | F8: docto.
B9: 31/12/2025 | C9: 870- Honorarios Diretoria Leonora Arnoldi Martins Ferreira | D9: 14603.97 | F9: docto.
B10: 31/12/2025 | C10: 874- Honorários Diretoria Vanessa Kein Botelho | D10: 4723.53 | F10: docto.
B11: 31/12/2025 | C11: 869 - Honorários Conselho Fiscal Leandro Guidolim | D11: 2586.13 | F11: docto.
B12: 31/12/2025 | C12: 871- Honorários Conselho Fiscal Paula C. Cardoso Benedicto | D12: 2586.13 | F12: docto.
B13: 31/12/2025 | C13: 872- Honorários Conselho Fiscal Pedro Evangelista Monteiro | D13: 2586.13 | F13: docto.
B14: 31/12/2025 | C14: 873- Honorários Conselho Fiscal Roberto Pereira | D14: 2586.13 | F14: docto.
B15: 31/12/2025 | C15: 875- Honorários Conselho Fiscal Victor Tadeu de Oliveira | D15: 2586.13 | F15: docto.
E16: retorna
C18: Total | D18: =SUM(D6:D17) -> 44493.27

Sheet 7.
B2: MORADA DO SOL TURISMO, EVENTOS E PARTICIPAÇÕES S/A
B3: Balancete de Despesas
B4: =RAZÃO!B4 -> Período : 01/12/2025 a 31/12/2025
B5: Data | C5: Histórico | D5: Valor
B6: 31/12/2025 | C6: 877- VR. A SER PAGO REF. 12/2025 INSS S/REMUNERAÇÃO AUTONOMOS | D6: 400 | E6: retorna | F6: docto.
C8: Total | D8: =SUM(D6:D7) -> 400

Sheet 8.
B2: MORADA DO SOL TURISMO, EVENTOS E PARTICIPAÇÕES S/A
B3: Balancete de Despesas
B4: =RAZÃO!B4 -> Período : 01/12/2025 a 31/12/2025
B5: Data | C5: Histórico | D5: Valor
B6: 31/12/2025 | C6: 876 - VR. A SER PAGO REF. 12/2025 REF. REMUNERAÇÃO DOS DIRETORES | D6: 8898.65 | E6: retorna | F6: docto.
C9: Total | D9: =SUM(D6:D8) -> 8898.65

Sheet 9.
B2: MORADA DO SOL TURISMO, EVENTOS E PARTICIPAÇÕES S/A
B3: Balancete de Despesas
B4: =RAZÃO!B4 -> Período : 01/12/2025 a 31/12/2025
B5: Data | C5: Histórico | D5: Valor
B6: 01/12/2025 | C6: 892 -PAGTO REF. FATURA 2006187955 VIVO EMPRESAS | D6: 141.6 | F6: docto.
B7: 12/12/2025 | C7: 940 -NF.SERVIÇOS 7721 TECHS INTERNET COORPORATIVA LTDA | D7: 206.4 | F7: docto.
F8: docto.
F9: docto.
E10: retorna | F10: docto.
C11: Total | D11: =SUM(D6:D10) -> 348

Sheet 10.
B2: MORADA DO SOL TURISMO, EVENTOS E PARTICIPAÇÕES S/A
B3: Balancete de Despesas
B4: =RAZÃO!B4 -> Período : 01/12/2025 a 31/12/2025
B5: Data | C5: Histórico | D5: Valor
B7: 16/12/2025 | C7: 942 - NF. SERVIÇOS 2527 - INOVACONT ASSESSORIA CONTABIL LTDA | D7: 3200 | E7: retorna | F7: docto.
F8: docto.
F9: docto.
C10: Total | D10: 3200

Sheet 11.
B2: MORADA DO SOL TURISMO, EVENTOS E PARTICIPAÇÕES S/A
B3: Balancete de Despesas
B4: =RAZÃO!B4 -> Período : 01/12/2025 a 31/12/2025
B5: Data | C5: Histórico | D5: Valor
B6: 04/12/2025 | C6: 939-CONF. NF. Nº108554 CENTER PRINT CARTUCHOS E TONNERS LTDA | D6: 120 | F6: docto.
B7: 10/12/2025 | C7: 896- CONF.NF.Nº 33275 BLANCO PIAO COM.PARAFUSOS | D7: 78.8 | E7: retorna | F7: docto.
C8: Total | D8: 198.8

Sheet 12.
B2: MORADA DO SOL TURISMO, EVENTOS E PARTICIPAÇÕES S/A
B3: Balancete de Despesas
B4: =RAZÃO!B4 -> Período : 01/12/2025 a 31/12/2025
B5: Data | C5: Histórico | D5: Valor
B6: 31/12/2025 | C6: 932 -APROPRIAÇÃO PARCELA 11/12 | D6: 164.91 | F6: docto.
F7: docto.
E8: retorna
C10: Total | D10: =SUM(D6:D9) -> 164.91

Sheet 13.
B2: MORADA DO SOL TURISMO, EVENTOS E PARTICIPAÇÕES S/A
B3: Balancete de Despesas
B4: =RAZÃO!B4 -> Período : 01/12/2025 a 31/12/2025
B5: Data | C5: Histórico | D5: Valor
B6: 18/12/2025 | C6: 912 -PAGTO REF.NFC-E Nº1271 MONTE VERDE RESTAURANTE(CONFRA DOS DIRETORES E CONSELHEIROS | D6: 1619.2 | F6: docto.
F7: docto.
F8: docto.
F9: docto.
F10: docto.
E11: retorna
C12: Total | D12: =SUM(D6:D11) -> 1619.2

Sheet 14.
B2: MORADA DO SOL TURISMO, EVENTOS E PARTICIPAÇÕES S/A
B3: Balancete de Despesas
B4: =RAZÃO!B4 -> Período : 01/12/2025 a 31/12/2025
B5: Data | C5: Histórico | D5: Valor
B6: 31/12/2025 | C6: 962 - Depreciação do período : 12/2025 | D6: 17.93 | F6: docto.
B7: 31/12/2025 | C7: 963 - Depreciação do período : 12/2025 | D7: 42.25 | F7: docto.
B8: 31/12/2025 | C8: 961 - Depreciação do período : 12/2025 | D8: 192 | F8: docto.
E9: retorna
C10: Total | D10: =SUM(D6:D9) -> 252.18

Sheet 15.
B2: MORADA DO SOL TURISMO, EVENTOS E PARTICIPAÇÕES S/A
B3: Balancete de Despesas
B4: =RAZÃO!B4 -> Período : 01/12/2025 a 31/12/2025
B5: Data | C5: Histórico | D5: Valor
B6: 31/12/2025 | C6: 959 - Depreciação do período : 12/2025 | D6: 2374.69 | F6: docto.
B7: 31/12/2025 | C7: 960 - Depreciação do período : 12/2025 | D7: 368.95 | F7: docto.
E8: retorna
C9: Total | D9: =SUM(D6:D8) -> 2743.64

Sheet 16.
B2: MORADA DO SOL TURISMO, EVENTOS E PARTICIPAÇÕES S/A
B3: Balancete de Despesas
B4: =RAZÃO!B4 -> Período : 01/12/2025 a 31/12/2025
B5: Data | C5: Histórico | D5: Valor
F6: docto.
F7: docto.
D8: 0 | E8: retorna
C10: Total | D10: =SUM(D6:D8) -> 0

Sheet 17.
B2: MORADA DO SOL TURISMO, EVENTOS E PARTICIPAÇÕES S/A
B3: Balancete de Despesas
B4: =RAZÃO!B4 -> Período : 01/12/2025 a 31/12/2025
B5: Data | C5: Histórico | D5: Valor
B6: 01/12 | C6: 915 - PAGTO REF. TARIFA DE MANUTENÇÃO CONTA ATIVA | D6: 32.5 | F6: docto.
B7: 15/12 | C7: 918- PAGTO REF. TARIFA COBRANÇA | D7: 2.5 | F7: docto.
B8: 01/12 | C8: 916-PAGTO REF. TARIFA EMISSÃO TED INTERNET | D8: 7.5 | E8: retorna | F8: docto.
C10: Total | D10: =SUM(D6:D8) -> 42.5

Sheet 18.
B2: MORADA DO SOL TURISMO, EVENTOS E PARTICIPAÇÕES S/A
B3: Balancete de Despesas
B4: =RAZÃO!B4 -> Período : 01/12/2025 a 31/12/2025
B5: Data | C5: Histórico | D5: Valor
F6: docto.
E7: retorna
C8: Total | D8: =SUM(D6:D7) -> 0

Sheet 19.
B2: MORADA DO SOL TURISMO, EVENTOS E PARTICIPAÇÕES S/A
B3: Balancete de Despesas
B4: =RAZÃO!B4 -> Período : 01/12/2025 a 31/12/2025
B5: Data | C5: Histórico | D5: Valor
B6: 31/12/2025 | C6: 944-IRRF S/ APLICAÇÕES FINANCEIRAS | D6: 634.04 | F6: docto.
B7: 31/12/2025 | C7: 946-IRRF S/ APLICAÇÕES FINANCEIRAS | D7: 136.28 | F7: docto.
E8: retorna | F8: docto.
C10: Total | D10: 770.32

Sheet 20.
B2: MORADA DO SOL TURISMO, EVENTOS E PARTICIPAÇÕES S/A
B3: Balancete de Despesas
B4: =RAZÃO!B4 -> Período : 01/12/2025 a 31/12/2025
B5: Data | C5: Histórico | D5: Valor
B6: 31/12/2025 | C6: 935-VR A SER PAGO REF.12/2025 | D6: 2695.01 | E6: retorna | F6: docto.
C8: Total | D8: =SUM(D6:D7) -> 2695.01

Sheet 21.
B2: MORADA DO SOL TURISMO, EVENTOS E PARTICIPAÇÕES S/A
B3: Balancete de Despesas
B4: =RAZÃO!B4 -> Período : 01/12/2025 a 31/12/2025
B5: Data | C5: Histórico | D5: Valor
B6: 31/12/2025 | C6: 936-VR A SER PAGO REF.12/2025 | D6: 4491.67 | F6: docto.
B7: 31/12/2025 | C7: 937- VR. A SER PAGO REF.12/2025 ADICIONAL DE IRPJ | D7: 3075 | F7: docto.
E8: retorna
C9: Total | D9: =SUM(D6:D8) -> 7566.67

Sheet 22.
B2: MORADA DO SOL TURISMO, EVENTOS E PARTICIPAÇÕES S/A
B3: Balancete de Despesas
B4: =RAZÃO!B4 -> Período : 01/12/2025 a 31/12/2025
B5: Data | C5: Histórico | D5: Valor
C6: 848-PAGTO REF.DARE-SP REF. PROCESSO ALTERAÇÃO JUNTA | F6: docto.
C7: 801-PAGTO REF. TAXA DA JUNTA COMERCIAL REFERENTE ATA | F7: docto.
F8: docto.
E9: retorna
C11: Total | D11: =D6+D7+D8 -> 0

Sheet 23.
B2: MORADA DO SOL TURISMO, EVENTOS E PARTICIPAÇÕES S/A
B3: Balancete de Despesas / Resumo de Competência
B4: =RAZÃO!B4 -> Período : 01/12/2025 a 31/12/2025
B5: Data | C5: Histórico | D5: Valor
B6: 11/12/2025 | C6: 911- PAGTO REF.RECONHECIMENTO DE FIRMAS TERCEIRO TABELIÃO DE NOTAS E PROTESTO. | D6: 285.78 | F6: docto.
F7: docto.
F8: docto.
F9: docto.
F10: docto.
E11: retorna
C12: Total | D12: =SUM(D6:D11) -> 285.78

Sheet 24.
B2: MORADA DO SOL TURISMO, EVENTOS E PARTICIPAÇÕES S/A
B3: Balancete de Despesas / Resumo de Competência
B4: =RAZÃO!B4 -> Período : 01/12/2025 a 31/12/2025
B5: Data | C5: Histórico | D5: Valor
F6: docto.
E8: retorna
C9: Total | D9: =SUM(D6:D8) -> 0

Sheet 25.
B2: MORADA DO SOL TURISMO, EVENTOS E PARTICIPAÇÕES S/A
B3: Balancete de Despesas / Resumo de Competência
B4: =RAZÃO!B4 -> Período : 01/12/2025 a 31/12/2025
B5: Data | C5: Histórico | D5: Valor
F6: docto.
E8: retorna
C9: Total | D9: =SUM(D6:D8) -> 0
