Workbook

Sheet RAZÃO
B2: MORADA DO SOL TURISMO, EVENTOS E PARTICIPAÇÕES S/A
B3: Balancete de Despesas / Resumo de Competência
B4: Período : 01/09/2025 a 30/09/2025
E5: VALOR | F5: DETALHE
B6: IMPOSTOS SOBRE RECEITA BRUTA
C7: 1. | D7: Cofins | E7: ='1.'!D6 -> 2203.54 | F7: abertura
C8: 2. | D8: Pis | E8: ='2.'!D6 -> 477.43 | F8: abertura
B9: SERVIÇOS DE TERCEIROS PESSOA FÍSICA
C10: 3. | D10: Honorários Advocatícios | E10: ='3.'!D12 -> 2000 | F10: abertura
C11: 4. | D11: Prestação de Serviços Pessoa Física | E11: ='4.'!D10 -> 0 | F11: abertura
C12: 5. | D12: Prestação de Serviços Pessoa Juridica | E12: ='5.'!D10 -> 2565.79 | F12: abertura
B13: REMUNERAÇÃO DIRETORIA/CONSELHO/PESSOAL
C14: 6. | D14: Carlos Eduardo Delbon | E14: ='6.'!D6 -> 4456.58 | F14: abertura
C15: 6. | D15: Danielle Cristina Real de Aquino | E15: ='6.'!D7 -> 4456.58 | F15: abertura
C16: 6. | D16: Gabriela da Vinha De Lorenzo Souza | E16: ='6.'!D8 -> 7087.07 | F16: abertura
C17: 6. | D17: Leandro Guidolim | E17: ='6.'!D11 -> 2439.98 | F17: abertura
C18: 6. | D18: Leonora Arnoldi Martins Ferreira | E18: ='6.'!D9 -> 13778.63 | F18: abertura
C19: 6. | D19: Paula Cristina Cardoso Benedicto | E19: ='6.'!D12 -> 2439.98 | F19: abertura
C20: 6. | D20: Pedro Evangelista Monteiro Neto | E20: ='6.'!D13 -> 2439.98 | F20: abertura
C21: 6. | D21: Roberto Pereira | E21: ='6.'!D14 -> 2439.98 | F21: abertura
C22: 6. | D22: Vanessa Kein Botelho | E22: ='6.'!D10 -> 4456.58 | F22: abertura
C23: 6. | D23: Victor Tadeu de Oliveira | E23: ='6.'!D15 -> 2439.98 | F23: abertura
B24: ENCARGOS SOCIAIS
C25: 7. | D25: INSS sobre remuneração Autônomos | E25: ='7.'!D8 -> 400 | F25: abertura
C26: 8. | D26: INSS sobre remuneração Diretores | E26: ='8.'!D9 -> 9287.06 | F26: abertura
B27: GASTOS DIVERSOS
C28: 9. | D28: Despesas de Telefona/Internet | E28: ='9.'!D11 -> 1408.86 | F28: abertura
C29: 10. | D29: Honorarios Contábeis | E29: ='10.'!D9 -> 3200 | F29: abertura
C30: 11. | D30: Despesas /Manutenção /Material de Escritório | E30: ='11.'!D8 -> 258 | F30: abertura
C31: 12. | D31: Premios de Seguro | E31: ='12.'!D10 -> 164.91 | F31: abertura
C32: 13. | D32: Despesas de Copa /Cozinha /Material de limp. | E32: ='13.'!D10 -> 0 | F32: abertura
C33: 14. | D33: Depreciação | E33: ='14.'!D9 -> 209.93 | F33: abertura
C34: 15. | D34: Depreciação - Imoveis | E34: ='15.'!D9 -> 2743.64 | F34: abertura
C35: 16. | D35: Publicações | E35: ='16.'!D10 -> 0 | F35: abertura
B36: DESPESAS/RECEITAS FINANCEIRAS
C37: 17. | D37: Despesas Bancárias | E37: ='17.'!D10 -> 35 | F37: abertura
C38: 18. | D38: IOF s/ Aplicações Financeiras | E38: ='18.'!D8 -> 30.29 | F38: abertura
C39: 19. | D39: IRRF s/Aplicacoes Financeiras | E39: 1116.07 | F39: abertura
C40: 20. | D40: CSLL | E40: ='20.'!D8 -> 2115.39 | F40: abertura
C41: 21. | D41: IRPJ | E41: ='21.'!D8 -> 5351.46 | F41: abertura
...

Sheet 1.
B2: MORADA DO SOL TURISMO, EVENTOS E PARTICIPAÇÕES S/A
B3: Balancete de Despesas / Resumo de Competência
B4: =RAZÃO!B4 -> Período : 01/09/2025 a 30/09/2025
B5: Data | C5: Histórico | D5: Valor
B6: 30/09/2025 | C6: 687 - VR. A SER PAGO REF. 09/2025 (COFINS) | D6: 2203.54 | E6: retorna | F6: docto.

Sheet 2.
B2: MORADA DO SOL TURISMO, EVENTOS E PARTICIPAÇÕES S/A
B3: Balancete de Despesas / Resumo de Competência
B4: =RAZÃO!B4 -> Período : 01/09/2025 a 30/09/2025
B5: Data | C5: Histórico | D5: Valor
B6: 30/09/2025 | C6: 688 - VR. A SER PAGO REF. 09/2025 (PIS) | D6: 477.43 | E6: retorna | F6: docto.

Sheet 3.
B2: MORADA DO SOL TURISMO, EVENTOS E PARTICIPAÇÕES S/A
B3: Balancete de Despesas
B4: =RAZÃO!B4 -> Período : 01/09/2025 a 30/09/2025
B5: Data | C5: Histórico | D5: Valor
B6: 30/09/2025 | C6: 641- VR. A SER PAGO REF. FERNANDA CILIA MARAFÃO BRUNETTI | D6: 2000 | E6: retorna | F6: docto.
E7: retorna | F7: docto.
E8: retorna | F8: docto.
E9: retorna | F9: docto.
C12: Total | D12: =SUM(D6:D11) -> 2000

Sheet 4.
B2: MORADA DO SOL TURISMO, EVENTOS E PARTICIPAÇÕES S/A
B3: Balancete de Despesas
B4: =RAZÃO!B4 -> Período : 01/09/2025 a 30/09/2025
B5: Data | C5: Histórico | D5: Valor
F6: docto.
F7: docto.
E8: retorna
C10: Total | D10: =SUM(D6:D9) -> 0

Sheet 5.
B2: MORADA DO SOL TURISMO, EVENTOS E PARTICIPAÇÕES S/A
B3: Balancete de Despesas
B4: =RAZÃO!B4 -> Período : 01/09/2025 a 30/09/2025
B5: Data | C5: Histórico | D5: Valor
B6: 25/09/2025 | C6: 675- NF. SERVIÇOS 63 - INDIAMARA MOURA SIQUEIRA | D6: 2194 | F6: docto.
B7: 17/09/2025 | C7: 672-NF.SERVIÇOS 2487471 UNIMED DE ARARAQUARA COOP TRABALHO MÉDICO | D7: 371.79 | F7: docto.
E9: retorna
C10: Total | D10: =SUM(D6:D9) -> 2565.79

Sheet 6.
B2: MORADA DO SOL TURISMO, EVENTOS E PARTICIPAÇÕES S/A
B3: Balancete de Despesas
B4: =RAZÃO!B4 -> Período : 01/09/2025 a 30/09/2025
B5: Data | C5: Histórico | D5: Valor
B6: 30/09/2025 | C6: 631- Honorarios Diretoria Carlos Eduardo Delbon | D6: 4456.58 | F6: docto.
B7: 30/09/2025 | C7: 632 - Honorarios Diretoria Danielle Cristina Real de Aquino | D7: 4456.58 | F7: docto.
B8: 30/09/2025 | C8: 633 - Honorarios Diretoria Gabriela da Vinha De Lorenzo Souza | D8: 7087.07 | F8: docto.
B9: 30/09/2025 | C9: 635- Honorarios Diretoria Leonora Arnoldi Martins Ferreira | D9: 13778.63 | F9: docto.
B10: 30/09/2025 | C10: 639- Honorários Diretoria Vanessa Kein Botelho | D10: 4456.58 | F10: docto.
B11: 30/09/2025 | C11: 634 - Honorários Conselho Fiscal Leandro Guidolim | D11: 2439.98 | F11: docto.
B12: 30/09/2025 | C12: 636- Honorários Conselho Fiscal Paula C. Cardoso Benedicto | D12: 2439.98 | F12: docto.
B13: 30/09/2025 | C13: 637- Honorários Conselho Fiscal Pedro Evangelista Monteiro Neto2439,98 | D13: 2439.98 | F13: docto.
B14: 30/09/2025 | C14: 638- Honorários Conselho Fiscal Roberto Pereira | D14: 2439.98 | F14: docto.
B15: 30/09/2025 | C15: 640 - Honorários Conselho Fiscal Victor Tadeu de Oliveira | D15: 2439.98 | F15: docto.
E16: retorna
C18: Total | D18: =SUM(D6:D17) -> 46435.34

Sheet 7.
B2: MORADA DO SOL TURISMO, EVENTOS E PARTICIPAÇÕES S/A
B3: Balancete de Despesas
B4: =RAZÃO!B4 -> Período : 01/09/2025 a 30/09/2025
B5: Data | C5: Histórico | D5: Valor
B6: 30/09/2025 | C6: 642- VR. A SER PAGO REF. 09/2025 INSS S/REMUNERAÇÃO AUTONOMOS | D6: 400 | E6: retorna | F6: docto.
C8: Total | D8: =SUM(D6:D7) -> 400

Sheet 8.
B2: MORADA DO SOL TURISMO, EVENTOS E PARTICIPAÇÕES S/A
B3: Balancete de Despesas
B4: =RAZÃO!B4 -> Período : 01/09/2025 a 30/09/2025
B5: Data | C5: Histórico | D5: Valor
B6: 30/09/2025 | C6: 643 - VR. A SER PAGO REF. 09/2025 REF. REMUNERAÇÃO DOS DIRETORES | D6: 9287.06 | E6: retorna | F6: docto.
C9: Total | D9: =SUM(D6:D8) -> 9287.06

Sheet 9.
B2: MORADA DO SOL TURISMO, EVENTOS E PARTICIPAÇÕES S/A
B3: Balancete de Despesas
B4: =RAZÃO!B4 -> Período : 01/09/2025 a 30/09/2025
B5: Data | C5: Histórico | D5: Valor
B6: 15/09/2025 | C6: 625 - REF. FATURA 1986209268-0 VIVO EMPRESAS | D6: 141.6 | F6: docto.
B7: 16/09/2025 | C7: 626-PAGTOS REF.FATURAS 1788173531,1800946220,1812642478 | D7: 530.43 | F7: docto.
B8: 22/09/2025 | C8: 676-NF.SERVIÇOS 7410 TECHS INTERNET CORPORATIVA | D8: 206.4 | F8: docto.
B9: 25/09/2025 | C9: 680-VALOR PAG. EM DUPLICIDADE REFERENTE AO PARCELAMENTO VIVO. | D9: 530.43 | F9: docto.
E10: retorna | F10: docto.
C11: Total | D11: =SUM(D6:D10) -> 1408.86

Sheet 10.
B2: MORADA DO SOL TURISMO, EVENTOS E PARTICIPAÇÕES S/A
B3: Balancete de Despesas
B4: =RAZÃO!B4 -> Período : 01/09/2025 a 30/09/2025
B5: Data | C5: Histórico | D5: Valor
B7: 30/09/2025 | C7: 686- NF. SERVIÇOS 2440 - INOVACONT ASSESSORIA CONTABIL LTDA | D7: 3200 | E7: retorna | F7: docto.
F8: docto.
C9: Total | D9: 3200

Sheet 11.
B2: MORADA DO SOL TURISMO, EVENTOS E PARTICIPAÇÕES S/A
B3: Balancete de Despesas
B4: =RAZÃO!B4 -> Período : 01/09/2025 a 30/09/2025
B5: Data | C5: Histórico | D5: Valor
B6: 26/09/2025 | C6: 674-COMPRA CONF.N.FISCAL N.40326 NACONTATO TEM VAREJO LTDA | D6: 258 | F6: docto.
E7: retorna | F7: docto.
C8: Total | D8: 258

Sheet 12.
B2: MORADA DO SOL TURISMO, EVENTOS E PARTICIPAÇÕES S/A
B3: Balancete de Despesas
B4: =RAZÃO!B4 -> Período : 01/09/2025 a 30/09/2025
B5: Data | C5: Histórico | D5: Valor
B6: 30/09/2025 | C6: 685 -APROPRIAÇÃO PARCELA 08/12 | D6: 164.91 | F6: docto.
F7: docto.
E8: retorna
C10: Total | D10: =SUM(D6:D9) -> 164.91

Sheet 13.
B2: MORADA DO SOL TURISMO, EVENTOS E PARTICIPAÇÕES S/A
B3: Balancete de Despesas
B4: =RAZÃO!B4 -> Período : 01/09/2025 a 30/09/2025
B5: Data | C5: Histórico | D5: Valor
F6: docto.
F7: docto.
F8: docto.
E9: retorna
C10: Total | D10: =SUM(D6:D9) -> 0

Sheet 14.
B2: MORADA DO SOL TURISMO, EVENTOS E PARTICIPAÇÕES S/A
B3: Balancete de Despesas
B4: =RAZÃO!B4 -> Período : 01/09/2025 a 30/09/2025
B5: Data | C5: Histórico | D5: Valor
B6: 30/09/2025 | C6: 791 - Depreciação do período : 09/2025 | D6: 17.93 | F6: docto.
B7: 30/09/2025 | C7: 790 - Depreciação do período : 09/2025 | D7: 192 | F7: docto.
E8: retorna
C9: Total | D9: =SUM(D6:D8) -> 209.93

Sheet 15.
B2: MORADA DO SOL TURISMO, EVENTOS E PARTICIPAÇÕES S/A
B3: Balancete de Despesas
B4: =RAZÃO!B4 -> Período : 01/09/2025 a 30/09/2025
B5: Data | C5: Histórico | D5: Valor
B6: 30/09/2025 | C6: 788- Depreciação do período : 09/2025 | D6: 2374.69 | F6: docto.
B7: 30/09/2025 | C7: 789 - Depreciação do período : 09/2025 | D7: 368.95 | F7: docto.
E8: retorna
C9: Total | D9: =SUM(D6:D8) -> 2743.64

Sheet 16.
B2: MORADA DO SOL TURISMO, EVENTOS E PARTICIPAÇÕES S/A
B3: Balancete de Despesas
B4: =RAZÃO!B4 -> Período : 01/09/2025 a 30/09/2025
B5: Data | C5: Histórico | D5: Valor
F6: docto.
F7: docto.
D8: 0 | E8: retorna
C10: Total | D10: =SUM(D6:D8) -> 0

Sheet 17.
B2: MORADA DO SOL TURISMO, EVENTOS E PARTICIPAÇÕES S/A
B3: Balancete de Despesas
B4: =RAZÃO!B4 -> Período : 01/09/2025 a 30/09/2025
B5: Data | C5: Histórico | D5: Valor
B6: 01/09 | C6: 665 - PAGTO REF. TARIFA DE MANUTENÇÃO CONTA ATIVA | D6: 32.5 | F6: docto.
B7: 15/09 | C7: 663 - PAGTO REF. TARIFA COBRANÇA | D7: 2.5 | F7: docto.
D8: 0 | E8: retorna
C10: Total | D10: =SUM(D6:D8) -> 35

Sheet 18.
B2: MORADA DO SOL TURISMO, EVENTOS E PARTICIPAÇÕES S/A
B3: Balancete de Despesas
B4: =RAZÃO!B4 -> Período : 01/09/2025 a 30/09/2025
B5: Data | C5: Histórico | D5: Valor
B6: 30/09/2025 | C6: 696-IOF RETIDO S/APLICAÇÕES FINANCEIRAS | D6: 30.29 | F6: docto.
E7: retorna
C8: Total | D8: =SUM(D6:D7) -> 30.29

Sheet 19.
B2: MORADA DO SOL TURISMO, EVENTOS E PARTICIPAÇÕES S/A
B3: Balancete de Despesas
B4: =RAZÃO!B4 -> Período : 01/09/2025 a 30/09/2025
B5: Data | C5: Histórico | D5: Valor
B6: 30/09/2025 | C6: 697 - IRFF RETIDO S/APLICAÇÕES FINANCEIRAS | D6: 921.8 | F6: docto.
B7: 30/09/2025 | C7: 699-IRRF RETIDO S/APLICAÇÕES FINANCEIRAS | D7: 194.27 | F7: docto.
E8: retorna | F8: docto.
C10: Total | D10: 1116.07

Sheet 20.
B2: MORADA DO SOL TURISMO, EVENTOS E PARTICIPAÇÕES S/A
B3: Balancete de Despesas
B4: =RAZÃO!B4 -> Período : 01/09/2025 a 30/09/2025
B5: Data | C5: Histórico | D5: Valor
B6: 30/09/2025 | C6: 690-VR A SER PAGO REF.09/2025 | D6: 2115.39 | E6: retorna | F6: docto.
C8: Total | D8: =SUM(D6:D7) -> 2115.39

Sheet 21.
B2: MORADA DO SOL TURISMO, EVENTOS E PARTICIPAÇÕES S/A
B3: Balancete de Despesas
B4: =RAZÃO!B4 -> Período : 01/09/2025 a 30/09/2025
B5: Data | C5: Histórico | D5: Valor
B6: 30/09/2025 | C6: 689-VR A SER PAGO REF.09/2025 | D6: 5351.46 | F6: docto.
E7: retorna
C8: Total | D8: =SUM(D6:D7) -> 5351.46

Sheet 22.
B2: MORADA DO SOL TURISMO, EVENTOS E PARTICIPAÇÕES S/A
B3: Balancete de Despesas
B4: =RAZÃO!B4 -> Período : 01/09/2025 a 30/09/2025
B5: Data | C5: Histórico | D5: Valor
B6: 03/09/2025 | C6: 620-PAGTO REF.DARE-SP REF. PROCESSO ALTERAÇÃO DA DIRETORIA NA JUCESP | D6: 562.7 | F6: docto.
B7: 05/09/2025 | C7: 679-PAGTO REF. TAXA DA JUNTA COMERCIAL REFERENTE ATA PROCESSO ALTERAÇÃO DO ESTATUTO | D7: 228.41 | F7: docto.
B8: 30/09/2025 | C8: 629 - PAGTO REFERENTE AO MÊS JULHO/2025 | D8: 7.35 | F8: docto.
E9: retorna
C11: Total | D11: =D6+D7+D8 -> 798.46

Sheet 23.
B2: MORADA DO SOL TURISMO, EVENTOS E PARTICIPAÇÕES S/A
B3: Balancete de Despesas / Resumo de Competência
B4: =RAZÃO!B4 -> Período : 01/09/2025 a 30/09/2025
B5: Data | C5: Histórico | D5: Valor
B6: 08/09/2025 | C6: 657-PAGTO REF.RECONHECIMENTO DE FIRMA 3º TABELIÃO DE NOTAS E PROTESTOS DE ARARAQUARA E 2ª TABELIÃO DE NOTAS E PROTESTOS DE LETRAS E TÍTULOS | D6: 129.9 | F6: docto.
B7: 17/09/2025 | C7: 623-PAGTO REF.RECONHECIMENTO DE FIRMA 3º TABELIÃO DE NOTAS E PROTESTOS DE ARARAQUARA | D7: 39.75 | F7: docto.
F8: docto.
F9: docto.
F10: docto.
E11: retorna
C12: Total | D12: =SUM(D6:D11) -> 169.65

Sheet 24.
B2: MORADA DO SOL TURISMO, EVENTOS E PARTICIPAÇÕES S/A
B3: Balancete de Despesas / Resumo de Competência
B4: =RAZÃO!B4 -> Período : 01/09/2025 a 30/09/2025
B5: Data | C5: Histórico | D5: Valor
B6: 30/09/2025 | C6: 820-Valor a ser pago Ref. Juros das Debentures ao DAAE | D6: 337500 | F6: docto.
E8: retorna
C9: Total | D9: =SUM(D6:D8) -> 337500
