Workbook

Sheet RAZÃO
B2: MORADA DO SOL TURISMO, EVENTOS E PARTICIPAÇÕES S/A
B3: Balancete de Despesas / Resumo de Competência
B4: Período : 01/06/2025 a 30/06/2025
E5: VALOR | F5: DETALHE
B6: IMPOSTOS SOBRE RECEITA BRUTA
C7: 1. | D7: Cofins | E7: ='1.'!D6 -> 2190.48 | F7: abertura
C8: 2. | D8: Pis | E8: ='2.'!D6 -> 474.59 | F8: abertura
B9: SERVIÇOS DE TERCEIROS PESSOA FÍSICA
C10: 3. | D10: Honorários Advocatícios | E10: ='3.'!D10 -> 11200 | F10: abertura
C11: 4. | D11: Prestação de Serviços Pessoa Física | E11: ='4.'!D10 -> 0 | F11: abertura
C12: 5. | D12: Prestação de Serviços Pessoa Juridica | E12: ='5.'!D10 -> 2194 | F12: abertura
B13: REMUNERAÇÃO DIRETORIA/CONSELHO/PESSOAL
C14: 6. | D14: Carlos Eduardo Delbon | E14: ='6.'!D6 -> 4456.58 | F14: abertura
C15: 6. | D15: Danielle Cristina Real de Aquino | E15: ='6.'!D7 -> 4456.58 | F15: abertura
C16: 6. | D16: Gabriela da Vinha De Lorenzo Souza | E16: ='6.'!D8 -> 7087.07 | F16: abertura
C17: 6. | D17: Leandro Guidolim | E17: ='6.'!D11 -> 2439.98 | F17: abertura
C18: 6. | D18: Leonora Arnoldi Martins Ferreira | E18: ='6.'!D9 -> 13778.63 | F18: abertura
C19: 6. | D19: Paula Cristina Cardoso Benedicto | E19: ='6.'!D12 -> 2439.98 | F19: abertura
C20: 6. | D20: Pedro Evangelista Monteiro Neto | E20: ='6.'!D13 -> 2439.98 | F20: abertura
C21: 6. | D21: Roberto Pereira | E21: ='6.'!D14 -> 2439.98 | F21: abertura
C22: 6. | D22: Vanessa Kein Botelho | E22: ='6.'!D10 -> 4456.58 | F22: abertura
C23: 6. | D23: Victor Tadeu de Oliveira | E23: ='6.'!D15 -> 2439.98 | F23: abertura
B24: ENCARGOS SOCIAIS
C25: 7. | D25: INSS sobre remuneração Autônomos | E25: ='7.'!D8 -> 400 | F25: abertura
C26: 8. | D26: INSS sobre remuneração Diretores | E26: ='8.'!D9 -> 9287.06 | F26: abertura
B27: GASTOS DIVERSOS
C28: 9. | D28: Despesas de Telefona/Internet | E28: ='9.'!D8 -> 348 | F28: abertura
C29: 10. | D29: Honorarios Contábeis | E29: ='10.'!D9 -> 3584 | F29: abertura
C30: 11. | D30: Despesas /Manutenção /Material de Escritório | E30: ='11.'!D8 -> 65.53 | F30: abertura
C31: 12. | D31: Premios de Seguro | E31: ='12.'!D10 -> 164.91 | F31: abertura
C32: 13. | D32: Despesas de Copa /Cozinha /Material de limp. | E32: ='13.'!D10 -> 1340 | F32: abertura
C33: 14. | D33: Depreciação | E33: ='14.'!D9 -> 209.93 | F33: abertura
C34: 15. | D34: Depreciação - Imoveis | E34: ='15.'!D9 -> 2743.64 | F34: abertura
C35: 16. | D35: Publicações | E35: ='16.'!D10 -> 3500 | F35: abertura
B36: DESPESAS/RECEITAS FINANCEIRAS
C37: 17. | D37: Despesas Bancárias | E37: ='17.'!D10 -> 35 | F37: abertura
C38: 18. | D38: IOF s/ Aplicações Financeiras | E38: ='18.'!D8 -> 0 | F38: abertura
C39: 19. | D39: IRRF s/Aplicacoes Financeiras | E39: 691.32 | F39: abertura
C40: 20. | D40: CSLL | E40: ='20.'!D8 -> 2102.82 | F40: abertura
C41: 21. | D41: IRPJ | E41: ='21.'!D8 -> 6776.01 | F41: abertura
...

Sheet 1.
B2: MORADA DO SOL TURISMO, EVENTOS E PARTICIPAÇÕES S/A
B3: Balancete de Despesas / Resumo de Competência
B4: =RAZÃO!B4 -> Período : 01/06/2025 a 30/06/2025
B5: Data | C5: Histórico | D5: Valor
B6: 30/06/2025 | C6: 435 - VR. A SER PAGO REF. 06/2025 (COFINS) | D6: 2190.48 | E6: retorna | F6: docto.

Sheet 2.
B2: MORADA DO SOL TURISMO, EVENTOS E PARTICIPAÇÕES S/A
B3: Balancete de Despesas / Resumo de Competência
B4: =RAZÃO!B4 -> Período : 01/06/2025 a 30/06/2025
B5: Data | C5: Histórico | D5: Valor
B6: 30/06/2025 | C6: 436 - VR. A SER PAGO REF. 06/2025 (PIS) | D6: 474.59 | E6: retorna | F6: docto.

Sheet 3.
B2: MORADA DO SOL TURISMO, EVENTOS E PARTICIPAÇÕES S/A
B3: Balancete de Despesas
B4: =RAZÃO!B4 -> Período : 01/06/2025 a 30/06/2025
B5: Data | C5: Histórico | D5: Valor
B6: 30/06/2025 | C6: 433 - VR. A SER PAGO REF. FERNANDA CILIA MARAFÃO BRUNETTI | D6: 2000 | E6: retorna | F6: docto.
B7: 10/06/2025 | C7: 454-CONFORME TERMO DE ACORDO PROCESSO CÍVEL Nº 1041367-21.2023.8.26.0506 | D7: 8000 | E7: retorna | F7: docto.
B8: 10/06/2025 | C8: 455-CONFORME TERMO DE ACORDO PROCESSO CÍVEL Nº 1041367-21.2023.8.26.0506 | D8: 1200 | E8: retorna | F8: docto.
C10: Total | D10: =SUM(D6:D9) -> 11200

Sheet 4.
B2: MORADA DO SOL TURISMO, EVENTOS E PARTICIPAÇÕES S/A
B3: Balancete de Despesas
B4: =RAZÃO!B4 -> Período : 01/06/2025 a 30/06/2025
B5: Data | C5: Histórico | D5: Valor
F6: docto.
E8: retorna
C10: Total | D10: =SUM(D6:D9) -> 0

Sheet 5.
B2: MORADA DO SOL TURISMO, EVENTOS E PARTICIPAÇÕES S/A
B3: Balancete de Despesas
B4: =RAZÃO!B4 -> Período : 01/06/2025 a 30/06/2025
B5: Data | C5: Histórico | D5: Valor
B6: 25/06/2025 | C6: 451- NF. SERVIÇOS 59 - INDIAMARA MOURA SIQUEIRA | D6: 2194 | F6: docto.
E9: retorna
C10: Total | D10: =SUM(D6:D9) -> 2194

Sheet 6.
B2: MORADA DO SOL TURISMO, EVENTOS E PARTICIPAÇÕES S/A
B3: Balancete de Despesas
B4: =RAZÃO!B4 -> Período : 01/06/2025 a 30/06/2025
B5: Data | C5: Histórico | D5: Valor
B6: 30/06/2025 | C6: 422- Honorarios Diretoria Carlos Eduardo Delbon | D6: 4456.58 | F6: docto.
B7: 30/06/2025 | C7: 423 - Honorarios Diretoria Danielle Cristina Real de Aquino | D7: 4456.58 | F7: docto.
B8: 30/06/2025 | C8: 424 - Honorarios Diretoria Gabriela da Vinha De Lorenzo Souza | D8: 7087.07 | F8: docto.
B9: 30/06/2025 | C9: 426 - Honorarios Diretoria Leonora Arnoldi Martins Ferreira | D9: 13778.63 | F9: docto.
B10: 30/06/2025 | C10: 430 - Honorários Diretoria Vanessa Kein Botelho | D10: 4456.58 | F10: docto.
B11: 30/06/2025 | C11: 425 - Honorários Conselho Fiscal Leandro Guidolim | D11: 2439.98 | F11: docto.
B12: 30/06/2025 | C12: 427 - Honorários Conselho Fiscal Paula C. Cardoso Benedicto | D12: 2439.98 | F12: docto.
B13: 30/06/2025 | C13: 428 - Honorários Conselho Fiscal Pedro Evangelista Monteiro Neto2439,98 | D13: 2439.98 | F13: docto.
B14: 30/06/2025 | C14: 429 - Honorários Conselho Fiscal Roberto Pereira | D14: 2439.98 | F14: docto.
B15: 30/06/2025 | C15: 431 - Honorários Conselho Fiscal Victor Tadeu de Oliveira | D15: 2439.98 | F15: docto.
E16: retorna
C18: Total | D18: =SUM(D6:D17) -> 46435.34

Sheet 7.
B2: MORADA DO SOL TURISMO, EVENTOS E PARTICIPAÇÕES S/A
B3: Balancete de Despesas
B4: =RAZÃO!B4 -> Período : 01/06/2025 a 30/06/2025
B5: Data | C5: Histórico | D5: Valor
B6: 30/06/2025 | C6: 434 - VR. A SER PAGO REF. 06/2025 INSS S/REMUNERAÇÃO AUTONOMOS | D6: 400 | E6: retorna | F6: docto.
C8: Total | D8: =SUM(D6:D7) -> 400

Sheet 8.
B2: MORADA DO SOL TURISMO, EVENTOS E PARTICIPAÇÕES S/A
B3: Balancete de Despesas
B4: =RAZÃO!B4 -> Período : 01/06/2025 a 30/06/2025
B5: Data | C5: Histórico | D5: Valor
B6: 30/06/2025 | C6: 432 - VR. A SER PAGO REF. 06/2025 REF. REMUNERAÇÃO DOS DIRETORES | D6: 9287.06 | E6: retorna | F6: docto.
C9: Total | D9: =SUM(D6:D8) -> 9287.06

Sheet 9.
B2: MORADA DO SOL TURISMO, EVENTOS E PARTICIPAÇÕES S/A
B3: Balancete de Despesas
B4: =RAZÃO!B4 -> Período : 01/06/2025 a 30/06/2025
B5: Data | C5: Histórico | D5: Valor
B6: 12/06/2025 | C6: 393 - REF. FATURA 1963841203-0 VIVO EMPRESAS | D6: 141.6 | F6: docto.
B7: 09/06/2025 | C7: 452-NF.SERVIÇOS 7143 TECHS INTERNET CORPORATIVA | D7: 206.4 | E7: retorna | F7: docto.
C8: Total | D8: =SUM(D6:D7) -> 348

Sheet 10.
B2: MORADA DO SOL TURISMO, EVENTOS E PARTICIPAÇÕES S/A
B3: Balancete de Despesas
B4: =RAZÃO!B4 -> Período : 01/06/2025 a 30/06/2025
B5: Data | C5: Histórico | D5: Valor
B7: 20/06/2025 | C7: 453 - NF. SERVIÇOS 2349 - INOVACONT ASSESSORIA CONTABIL LTDA | D7: 3200 | E7: retorna | F7: docto.
B8: 25/06/2025 | C8: 408-MULTA REF.PAGT.EM ATRASO NF.2317 INOVACONT | D8: 384 | F8: docto.
C9: Total | D9: 3584

Sheet 11.
B2: MORADA DO SOL TURISMO, EVENTOS E PARTICIPAÇÕES S/A
B3: Balancete de Despesas
B4: =RAZÃO!B4 -> Período : 01/06/2025 a 30/06/2025
B5: Data | C5: Histórico | D5: Valor
B6: 06/06/2025 | C6: 414-Compra Conf.N.Fiscal Nº22.274 Matheus Campos de Souza | D6: 35.64 | F6: docto.
B7: 10/06/2025 | C7: 413-Compra Conf.N.fiscal Nº42.881 Marcio Avelar Barone | D7: 29.89 | E7: retorna | F7: docto.
C8: Total | D8: 65.53

Sheet 12.
B2: MORADA DO SOL TURISMO, EVENTOS E PARTICIPAÇÕES S/A
B3: Balancete de Despesas
B4: =RAZÃO!B4 -> Período : 01/06/2025 a 30/06/2025
B5: Data | C5: Histórico | D5: Valor
B6: 30/06/2025 | C6: 444 -APROPRIAÇÃO PARCELA 05/12 | D6: 164.91 | F6: docto.
E8: retorna
C10: Total | D10: =SUM(D6:D9) -> 164.91

Sheet 13.
B2: MORADA DO SOL TURISMO, EVENTOS E PARTICIPAÇÕES S/A
B3: Balancete de Despesas
B4: =RAZÃO!B4 -> Período : 01/06/2025 a 30/06/2025
B5: Data | C5: Histórico | D5: Valor
B6: 17/06/2025 | C6: 449-COMPRA CONF.N.FISCAL Nº 2760 BRUNO R.BORTOLOZZO E CIA.LTDA | D6: 1340 | F6: docto.
F8: docto.
E9: retorna
C10: Total | D10: =SUM(D6:D9) -> 1340

Sheet 14.
B2: MORADA DO SOL TURISMO, EVENTOS E PARTICIPAÇÕES S/A
B3: Balancete de Despesas
B4: =RAZÃO!B4 -> Período : 01/06/2025 a 30/06/2025
B5: Data | C5: Histórico | D5: Valor
B6: 30/06/2025 | C6: 448 - Depreciação do período : 06/2025 | D6: 17.93 | F6: docto.
B7: 30/06/2025 | C7: 447 - Depreciação do período : 06/2025 | D7: 192 | F7: docto.
E8: retorna
C9: Total | D9: =SUM(D6:D8) -> 209.93

Sheet 15.
B2: MORADA DO SOL TURISMO, EVENTOS E PARTICIPAÇÕES S/A
B3: Balancete de Despesas
B4: =RAZÃO!B4 -> Período : 01/06/2025 a 30/06/2025
B5: Data | C5: Histórico | D5: Valor
B6: 30/06/2025 | C6: 445 - Depreciação do período : 06/2025 | D6: 2374.69 | F6: docto.
B7: 30/06/2025 | C7: 446 - Depreciação do período : 06/2025 | D7: 368.95 | F7: docto.
E8: retorna
C9: Total | D9: =SUM(D6:D8) -> 2743.64

Sheet 16.
B2: MORADA DO SOL TURISMO, EVENTOS E PARTICIPAÇÕES S/A
B3: Balancete de Despesas
B4: =RAZÃO!B4 -> Período : 01/06/2025 a 30/06/2025
B5: Data | C5: Histórico | D5: Valor
B6: 11/06/2025 | C6: 450-NF.SERVIÇOS 7514 APL ASSESSORIA E PUBLICIDADE LEGAL LTDA | D6: 3500 | F6: docto.
F7: docto.
D8: 0 | E8: retorna
C10: Total | D10: =SUM(D6:D8) -> 3500

Sheet 17.
B2: MORADA DO SOL TURISMO, EVENTOS E PARTICIPAÇÕES S/A
B3: Balancete de Despesas
B4: =RAZÃO!B4 -> Período : 01/06/2025 a 30/06/2025
B5: Data | C5: Histórico | D5: Valor
B6: 02/06 | C6: 409 - PAGTO REF. TARIFA DE MANUTENÇÃO CONTA ATIVA | D6: 32.5 | F6: docto.
B7: 18/06 | C7: 410 - PAGTO REF. TARIFA COBRANÇA | D7: 2.5 | F7: docto.
D8: 0 | E8: retorna
C10: Total | D10: =SUM(D6:D8) -> 35

Sheet 18.
B2: MORADA DO SOL TURISMO, EVENTOS E PARTICIPAÇÕES S/A
B3: Balancete de Despesas
B4: =RAZÃO!B4 -> Período : 01/06/2025 a 30/06/2025
B5: Data | C5: Histórico | D5: Valor
F6: docto.
E7: retorna
C8: Total | D8: =SUM(D6:D7) -> 0

Sheet 19.
B2: MORADA DO SOL TURISMO, EVENTOS E PARTICIPAÇÕES S/A
B3: Balancete de Despesas
B4: =RAZÃO!B4 -> Período : 01/06/2025 a 30/06/2025
B5: Data | C5: Histórico | D5: Valor
B6: 30/06/2025 | C6: 457 - IRFF RETIDO S/APLICAÇÕES FINANCEIRAS | D6: 450.32 | F6: docto.
B7: 30/06/2025 | C7: 459-IRRF RETIDO S/APLICAÇÕES FINANCEIRAS | D7: 241 | F7: docto.
E8: retorna | F8: docto.
C10: Total | D10: =SUM(D6:D9) -> 691.32

Sheet 20.
B2: MORADA DO SOL TURISMO, EVENTOS E PARTICIPAÇÕES S/A
B3: Balancete de Despesas
B4: =RAZÃO!B4 -> Período : 01/06/2025 a 30/06/2025
B5: Data | C5: Histórico | D5: Valor
B6: 30/06 | C6: 437- VR. A SER PAGO REF. 06/2025 | D6: 2102.82 | E6: retorna | F6: docto.
C8: Total | D8: =SUM(D6:D7) -> 2102.82

Sheet 21.
B2: MORADA DO SOL TURISMO, EVENTOS E PARTICIPAÇÕES S/A
B3: Balancete de Despesas
B4: =RAZÃO!B4 -> Período : 01/06/2025 a 30/06/2025
B5: Data | C5: Histórico | D5: Valor
B6: 30/06/2025 | C6: 438- VR. A SER PAGO REF. 06/2025 | D6: 6776.01 | F6: docto.
E7: retorna
C8: Total | D8: =SUM(D6:D7) -> 6776.01

Sheet 22.
B2: MORADA DO SOL TURISMO, EVENTOS E PARTICIPAÇÕES S/A
B3: Balancete de Despesas
B4: =RAZÃO!B4 -> Período : 01/06/2025 a 30/06/2025
B5: Data | C5: Histórico | D5: Valor
B6: 10/04/2025 | C6: 252 - PAGTO REF. DARE-SP PROCESSO ALTERAÇÃO DA DIRETORIA JUCESP | F6: docto.
B7: 10/04/2025 | C7: 253 - PAGTO REF. DARE-SP PROCESSO ALTERAÇÃO DA DIRETORIA JUCESP | F7: docto.
B8: 10/04/2025 | C8: 254 - PAGTO REF. DARE-SP PROCESSO ALTERAÇÃO DA DIRETORIA JUCESP | F8: docto.
E9: retorna
C11: Total

Sheet 23.
B2: MORADA DO SOL TURISMO, EVENTOS E PARTICIPAÇÕES S/A
B3: Balancete de Despesas / Resumo de Competência
B4: =RAZÃO!B4 -> Período : 01/06/2025 a 30/06/2025
B5: Data | C5: Histórico | D5: Valor
F6: docto.
F7: docto.
F8: docto.
F9: docto.
F10: docto.
E11: retorna
C12: Total | D12: =SUM(D6:D11) -> 0
