Workbook

Sheet RAZÃO
B2: MORADA DO SOL TURISMO, EVENTOS E PARTICIPAÇÕES S/A
B3: Balancete de Despesas
B4: Período : 01/02/2025 a 28/02/2025
E5: VALOR | F5: DETALHE
B6: IMPOSTOS SOBRE RECEITA BRUTA
C7: 1. | D7: Cofins | E7: ='1.'!D6 -> 2942.85 | F7: abertura
C8: 2. | D8: Pis | E8: ='2.'!D6 -> 637.62 | F8: abertura
B9: SERVIÇOS DE TERCEIROS PESSOA FÍSICA
C10: 3. | D10: Honorários Advocatícios | E10: ='3.'!D8 -> 2000 | F10: abertura
C11: 4. | D11: Prestação de Serviços Pessoa Física | E11: ='4.'!D10 -> 0 | F11: abertura
C12: 5. | D12: Prestação de Serviços Pessoa Juridica | E12: ='5.'!D8 -> 2094 | F12: abertura
B13: REMUNERAÇÃO DIRETORIA/CONSELHO/PESSOAL
C14: 6. | D14: Carlos Eduardo Delbon | E14: ='6.'!D6 -> 7114.18 | F14: abertura
C15: 6. | D15: Danielle Cristina Real de Aquino | E15: ='6.'!D13 -> 4456.58 | F15: abertura
C16: 6. | D16: Donizete Simioni | E16: ='6.'!D7 -> 1219.99 | F16: abertura
C17: 6. | D17: Gabriela da Vinha De Lorenzo Souza | E17: ='6.'!D12 -> 7087.07 | F17: abertura
C18: 6. | D18: Jefferson Henrique Rosseti | E18: ='6.'!D10 -> 0 | F18: abertura
C19: 6. | D19: Leonora Arnoldi Martins Ferreira | E19: ='6.'!D11 -> 11338.65 | F19: abertura
C20: 6. | D20: Manoel de Araujo Sobrinho | E20: ='6.'!D8 -> 1219.99 | F20: abertura
C21: 6. | D21: Mario Zafallon Junior | E21: ='6.'!D9 -> 1219.99 | F21: abertura
C22: 6. | D22: Nelson Kiyoshi Hisatsuga | E22: ='6.'!D16 -> 1219.99 | F22: abertura
C23: 6. | D23: Saba José Harb | E23: ='6.'!D14 -> 0 | F23: abertura
C24: 6. | D24: Salua Kairuz Manoel | E24: ='6.'!D15 -> 1219.99 | F24: abertura
B25: ENCARGOS SOCIAIS
C26: 7. | D26: INSS sobre remuneração Autônomos | E26: ='7.'!D8 -> 400 | F26: abertura
C27: 8. | D27: INSS sobre remuneração Diretores | E27: ='8.'!D9 -> 7219.28 | F27: abertura
B28: GASTOS DIVERSOS
C29: 9. | D29: Despesas de Telefonia/Internet | E29: ='9.'!D8 -> 133.64 | F29: abertura
C30: 10. | D30: Honorarios Contábeis | E30: ='10.'!D8 -> 3200 | F30: abertura
C31: 11. | D31: Honorários de Auditoria | E31: ='11.'!D8 -> 3196.59 | F31: abertura
C32: 12. | D32: Publicações | E32: ='12'!D6 -> 3500 | F32: abertura
C33: 13. | D33: Premios de Seguro | E33: ='13.'!D8 -> 82.35 | F33: abertura
C34: 14. | D34: Viagens, Estadias e Estacionamento | E34: ='14.'!D8 -> 25 | F34: abertura
C35: 15. | D35: Depreciação | E35: ='15.'!D9 -> 247.56 | F35: abertura
C36: 16. | D36: Depreciação - Imoveis | E36: ='16.'!D9 -> 2743.64 | F36: abertura
C37: 17. | D37: Impressos e Materias para Escritório | E37: ='17.'!D12 -> 2310.9 | F37: abertura
B38: DESPESAS/RECEITAS FINANCEIRAS
C39: 18. | D39: Despesas Bancárias | E39: ='18.'!D10 -> 35 | F39: abertura
C40: 19. | D40: IOF s/ Aplicações Financeiras | E40: ='19.'!D8 -> 0 | F40: abertura
C41: 20. | D41: IRRF s/Aplicacoes Financeiras | E41: ='20.'!D9 -> 0 | F41: abertura
...

Sheet 1.
B2: MORADA DO SOL TURISMO, EVENTOS E PARTICIPAÇÕES S/A
B3: Balancete de Despesas
B4: =RAZÃO!B4 -> Período : 01/02/2025 a 28/02/2025
B5: Data | C5: Histórico | D5: Valor
B6: 28/02/2025 | C6: VR. A SER PAGO REF. 02/2025 (COFINS) | D6: 2942.85 | E6: retorna | F6: docto.

Sheet 2.
B2: MORADA DO SOL TURISMO, EVENTOS E PARTICIPAÇÕES S/A
B3: Balancete de Despesas
B4: =RAZÃO!B4 -> Período : 01/02/2025 a 28/02/2025
B5: Data | C5: Histórico | D5: Valor
B6: 28/02/2025 | C6: VR. A SER PAGO REF. 02/2025 (PIS) | D6: 637.62 | E6: retorna | F6: docto.

Sheet 3.
B2: MORADA DO SOL TURISMO, EVENTOS E PARTICIPAÇÕES S/A
B3: Balancete de Despesas
B4: =RAZÃO!B4 -> Período : 01/02/2025 a 28/02/2025
B5: Data | C5: Histórico | D5: Valor
B6: 28/02/2025 | C6: VR. A SER PAGO REF. FERNANDA CILIA MARAFÃO BRUNETTI | D6: 2000 | E6: retorna | F6: docto.
C8: Total | D8: =SUM(D6:D7) -> 2000

Sheet 4.
B2: MORADA DO SOL TURISMO, EVENTOS E PARTICIPAÇÕES S/A
B3: Balancete de Despesas
B4: =RAZÃO!B4 -> Período : 01/02/2025 a 28/02/2025
B5: Data | C5: Histórico | D5: Valor
F6: docto.
F7: docto.
E8: retorna | F8: docto.
C10: Total | D10: =SUM(D6:D9) -> 0

Sheet 5.
B2: MORADA DO SOL TURISMO, EVENTOS E PARTICIPAÇÕES S/A
B3: Balancete de Despesas
B4: =RAZÃO!B4 -> Período : 01/02/2025 a 28/02/2025
B5: Data | C5: Histórico | D5: Valor
B6: 25/02/2025 | C6: NF. SERVIÇOS 42 - INDIAMARA MOURA SIQUEIRA | D6: 2094 | E6: retorna | F6: docto.
C8: Total | D8: =SUM(D6:D7) -> 2094

Sheet 6.
B2: MORADA DO SOL TURISMO, EVENTOS E PARTICIPAÇÕES S/A
B3: Balancete de Despesas
B4: =RAZÃO!B4 -> Período : 01/02/2025 a 28/02/2025
B5: Data | C5: Histórico | D5: Valor
B6: 28/02/2025 | C6: Honorarios Diretoria Carlos Eduardo Delbon | D6: 7114.18 | F6: docto.
B7: 28/02/2025 | C7: Honorarios Diretoria Donizete Simioni | D7: 1219.99 | F7: docto.
B8: 28/02/2025 | C8: Honorarios Diretoria Manoel de Araujo Sobrinho | D8: 1219.99 | F8: docto.
B9: 28/02/2025 | C9: Honorarios Conselho Fiscal Mario Zafallon Junior | D9: 1219.99 | F9: docto.
B10: 28/02/2025 | C10: Honorarios Diretoria Jefferson Henrique Rosseti | F10: docto.
B11: 28/02/2025 | C11: Honorarios Diretoria Leonora Arnoldi Martins Ferreira | D11: 11338.65 | F11: docto.
B12: 28/02/2025 | C12: Honorarios Diretoria Gabriela da Vinha De Lorenzo Souza | D12: 7087.07 | F12: docto.
B13: 28/02/2025 | C13: Honorarios Diretora Danielle Cristina Real de Aquino | D13: 4456.58 | F13: docto.
B14: 28/02/2025 | C14: Honorarios Conselho Fiscal Saba José Harb | F14: docto.
B15: 28/02/2025 | C15: Honorarios Conselho Fiscal Saula Kairuz Manoel | D15: 1219.99 | F15: docto.
B16: 28/02/2025 | C16: Honorarios Conselho Fiscal Nelson Kiyoshi Hisatsuga | D16: 1219.99 | E16: retorna | F16: docto.
D18: =SUM(D6:D17) -> 36096.43

Sheet 7.
B2: MORADA DO SOL TURISMO, EVENTOS E PARTICIPAÇÕES S/A
B3: Balancete de Despesas
B4: =RAZÃO!B4 -> Período : 01/02/2025 a 28/02/2025
B5: Data | C5: Histórico | D5: Valor
B6: 28/02/2025 | C6: VR. A SER PAGO REF. 01/2025 INSS S/REMUNERAÇÃO AUTONOMOS | D6: 400 | E6: retorna | F6: docto.
C8: Total | D8: =SUM(D6:D7) -> 400

Sheet 8.
B2: MORADA DO SOL TURISMO, EVENTOS E PARTICIPAÇÕES S/A
B3: Balancete de Despesas
B4: =RAZÃO!B4 -> Período : 01/02/2025 a 28/02/2025
B5: Data | C5: Histórico | D5: Valor
B6: 28/02/2025 | C6: VR. A SER PAGO REF. 01/2025 REF. REMUNERAÇÃO DOS DIRETORES | D6: 7219.28 | E6: retorna | F6: docto.
C9: Total | D9: =SUM(D6:D8) -> 7219.28

Sheet 9.
B2: MORADA DO SOL TURISMO, EVENTOS E PARTICIPAÇÕES S/A
B3: Balancete de Despesas
B4: =RAZÃO!B4 -> Período : 01/02/2025 a 28/02/2025
B5: Data | C5: Histórico | D5: Valor
B6: 28/02/2025 | C6: PAGTO REF. FATURA 1922999817-0 VIVO EMPRESAS | D6: 133.64 | F6: docto.
E7: retorna
C8: Total | D8: =SUM(D6:D7) -> 133.64

Sheet 10.
B2: MORADA DO SOL TURISMO, EVENTOS E PARTICIPAÇÕES S/A
B3: Balancete de Despesas
B4: =RAZÃO!B4 -> Período : 01/02/2025 a 28/02/2025
B5: Data | C5: Histórico | D5: Valor
B7: 24/02/2025 | C7: NF. SERVIÇOS 2166 - INOVACONT ASSESSORIA CONTABIL LTDA | D7: 3200 | E7: retorna | F7: docto.
C8: Total | D8: =SUM(D7:D7) -> 3200

Sheet 11.
B2: MORADA DO SOL TURISMO, EVENTOS E PARTICIPAÇÕES S/A
B3: Balancete de Despesas
B4: =RAZÃO!B4 -> Período : 01/02/2025 a 28/02/2025
B5: Data | C5: Histórico | D5: Valor
B6: 26/02/2025 | C6: NF. SERVIÇOS 1996 CND CONAUD AUDITORES INDEPENDENTES S.S. | D6: 3196.59 | E6: retorna | F6: docto.
C8: Total | D8: =SUM(D6:D7) -> 3196.59

Sheet 12
B2: MORADA DO SOL TURISMO, EVENTOS E PARTICIPAÇÕES S/A
B3: Balancete de Despesas
B4: =RAZÃO!B4 -> Período : 01/02/2025 a 28/02/2025
B5: Data | C5: Histórico | D5: Valor
B6: 20/02/2025 | C6: NF. SERVIÇOS 6936 APL ASSESSORIA E PUBLICIDADE LEGAL LTDA | D6: 3500 | E6: retorna | F6: docto.
C8: Total | D8: =SUM(D6:D7) -> 3500

Sheet 13.
B2: MORADA DO SOL TURISMO, EVENTOS E PARTICIPAÇÕES S/A
B3: Balancete de Despesas
B4: =RAZÃO!B4 -> Período : 01/02/2025 a 28/02/2025
B5: Data | C5: Histórico | D5: Valor
B6: 28/02/2025 | C6: APROPRIAÇÃO PARCELA 01/12 | D6: 82.35 | E6: retorna | F6: docto.
C8: Total | D8: =SUM(D6:D7) -> 82.35

Sheet 14.
B2: MORADA DO SOL TURISMO, EVENTOS E PARTICIPAÇÕES S/A
B3: Balancete de Despesas
B4: =RAZÃO!B4 -> Período : 01/02/2025 a 28/02/2025
B5: Data | C5: Histórico | D5: Valor
B6: 20/02/2025 | C6: REEMBOLSO A DIRETORA LEONORA ARNOLDI MARTINS FERREIRA REFERENTE A TAXA DO ESTACIONAMENTO PORTUGAL CONF. TICKET DE ESTACIONAMENTO E RELATÓRIO DE REEMBOLSO DE DESPESAS ANEXOS | D6: 25 | E6: retorna | F6: docto.
C8: Total | D8: =SUM(D6:D7) -> 25

Sheet 15.
B2: MORADA DO SOL TURISMO, EVENTOS E PARTICIPAÇÕES S/A
B3: Balancete de Despesas
B4: =RAZÃO!B4 -> Período : 01/02/2025 a 28/02/2025
B5: Data | C5: Histórico | D5: Valor
B6: 28/02/2025 | C6: Depreciação do período : 02/2025 | D6: 55.56 | F6: docto.
B7: 28/02/2025 | C7: Depreciação do período : 02/2025 | D7: 192 | E7: retorna
C9: Total | D9: =SUM(D6:D8) -> 247.56

Sheet 16.
B2: MORADA DO SOL TURISMO, EVENTOS E PARTICIPAÇÕES S/A
B3: Balancete de Despesas
B4: =RAZÃO!B4 -> Período : 01/02/2025 a 28/02/2025
B5: Data | C5: Histórico | D5: Valor
B6: 28/02/2025 | C6: Depreciação do período : 02/2024 | D6: 2374.69 | F6: docto.
B7: 28/02/2025] | C7: Depreciação do período : 02/2024 | D7: 368.95 | E7: retorna
C9: Total | D9: =SUM(D6:D8) -> 2743.64

Sheet 17.
B2: MORADA DO SOL TURISMO, EVENTOS E PARTICIPAÇÕES S/A
B3: Balancete de Despesas
B4: =RAZÃO!B4 -> Período : 01/02/2025 a 28/02/2025
B5: Data | C5: Histórico | D5: Valor
B6: 05/02/2025 | C6: COMPRA NF. 341991 - ATIVA DISTRIBUIODORA DE TECNOLOGIA LTDA | D6: 2151.1 | F6: docto.
B7: 10/02/2025 | C7: COMPRA NF. N. 1234 RPM ARTIGOS DE PAPELARIA LTDA | D7: 79 | F7: docto.
B8: 20/02/2025 | C8: REEMBOLSO A DIRETORA GABRIELA DE LORENZO REFERENTE A AQUISIÇÃO DE MATERIAL DE ESCRITÓRIO CONF. SAT FISCAL 50954 KALUNGA S.A E RELATÓRIO DE REEMBOLSO DE DESPESAS ANEXOS | D8: 48.8 | F8: docto.
B9: 27/02/2025 | C9: COMPRA CONF. N.FISCAL N. 241806 KALUNGA S.A. | D9: 32 | F9: docto.
E10: retorna
C12: Total | D12: =SUM(D6:D10) -> 2310.9

Sheet 18.
B2: MORADA DO SOL TURISMO, EVENTOS E PARTICIPAÇÕES S/A
B3: Balancete de Despesas
B4: =RAZÃO!B4 -> Período : 01/02/2025 a 28/02/2025
B5: Data | C5: Histórico | D5: Valor
B6: 03/02/2025 | C6: PAGTO REF. TARIFA MANUTENÇÃO CONTA ATIVA | D6: 32.5 | F6: docto.
B7: 18/02/20258 | C7: PAGTO REF. TARIFA DE COBRANÇA | D7: 2.5
D8: 0 | E8: retorna
C10: Total | D10: =SUM(D6:D8) -> 35

Sheet 19.
B2: MORADA DO SOL TURISMO, EVENTOS E PARTICIPAÇÕES S/A
B3: Balancete de Despesas
B4: =RAZÃO!B4 -> Período : 01/02/2025 a 28/02/2025
B5: Data | C5: Histórico | D5: Valor
E6: retorna | F6: docto.
C8: Total | D8: =SUM(D6:D7) -> 0

Sheet 20.
B2: MORADA DO SOL TURISMO, EVENTOS E PARTICIPAÇÕES S/A
B3: Balancete de Despesas
B4: =RAZÃO!B4 -> Período : 01/02/2025 a 28/02/2025
B5: Data | C5: Histórico | D5: Valor
F6: docto.
E7: retorna | F7: docto.
C9: Total | D9: =SUM(D6:D8) -> 0

Sheet 21.
B2: MORADA DO SOL TURISMO, EVENTOS E PARTICIPAÇÕES S/A
B3: Balancete de Despesas
B4: =RAZÃO!B4 -> Período : 01/02/2025 a 28/02/2025
B5: Data | C5: Histórico | D5: Valor
B6: 28/02/5025 | C6: VR. A SER PAGO REF. 02/2025 | D6: 2825.13 | E6: retorna | F6: docto.
C8: Total | D8: =SUM(D6:D7) -> 2825.13

Sheet 22.
B2: MORADA DO SOL TURISMO, EVENTOS E PARTICIPAÇÕES S/A
B3: Balancete de Despesas
B4: =RAZÃO!B4 -> Período : 01/02/2025 a 28/02/2025
B5: Data | C5: Histórico | D5: Valor
B6: 28/02/2025 | C6: VR. A SER PAGO REF. 02/2025 | D6: 4708.55 | E6: retorna | F6: docto.
C8: Total | D8: =SUM(D6:D7) -> 4708.55

Sheet 23.
B2: MORADA DO SOL TURISMO, EVENTOS E PARTICIPAÇÕES S/A
B3: Balancete de Despesas
B4: =RAZÃO!B4 -> Período : 01/02/2025 a 28/02/2025
B5: Data | C5: Histórico | D5: Valor
F6: docto.
F7: docto.
F8: docto.
F9: docto.
E10: retorna
C12: Total | D12: =SUM(D6:D9) -> 0

Sheet 24.
B2: MORADA DO SOL TURISMO, EVENTOS E PARTICIPAÇÕES S/A
B3: Balancete de Despesas
B4: =RAZÃO!B4 -> Período : 01/02/2025 a 28/02/2025
B5: Data | C5: Histórico | D5: Valor
B6: 27/02/2025 | C6: RECONHECIMENTO DE FIRMA 3º TABELIÃO | D6: 337.74 | F6: docto.
B7: 27/02/2025 | C7: RECONHECIMENTO DE FIRMA 2º TABELIÃO | D7: 233.82 | F7: docto.
B8: 28/02/2025 | C8: RECONHECIMENTO DE FIRMA 2º TABELIÃO | D8: 25.98 | F8: docto.
B9: 28//02/2025 | C9: RECONHECIMENTO DE FIRMA 1º TABELIÃO | D9: 52.2 | F9: docto.
E10: retorna
C12: Total | D12: =SUM(D6:D11) -> 649.74

Sheet 25.
B2: MORADA DO SOL TURISMO, EVENTOS E PARTICIPAÇÕES S/A
B3: Balancete de Despesas
B4: =RAZÃO!B4 -> Período : 01/02/2025 a 28/02/2025
B5: Data | C5: Histórico | D5: Valor
B6: 05/02/2025 | C6: PAGTO REF. MULTA E JUROS PAGAMENTO DA NF 391 TECHS INTERNET CORPORATIVA LTDA | D6: 6.3 | F6: docto.
E7: retorna
C9: Total | D9: =SUM(D6:D8) -> 6.3
