Workbook

Sheet RAZÃO
B2: MORADA DO SOL TURISMO, EVENTOS E PARTICIPAÇÕES S/A
B3: Balancete de Despesas
B4: Período : 01/12/2021 a 31/12/2021
E5: VALOR | F5: DETALHE
B6: IMPOSTOS SOBRE RECEITA BRUTA
C7: 1. | D7: Cofins | E7: ='1.'!D6 -> 3749.93 | F7: abertura
C8: 2. | D8: Pis | E8: ='2.'!D6 -> 812.48 | F8: abertura
B9: SERVIÇOS DE TERCEIROS PESSOA FÍSICA
C10: 3. | D10: Honorários Advocatícios | E10: ='3.'!D9 -> 3000 | F10: abertura
C11: 4. | D11: Prestação de Serviços Pessoa Física | E11: ='4.'!D27 -> 19081.51 | F11: abertura
B12: REMUNERAÇÃO DIRETORIA/CONSELHO/PESSOAL
C13: 5. | D13: Manoel de Araujo Sobrinho | E13: ='5.'!D8 -> 9721.24 | F13: abertura
C14: 5. | D14: Saba José Harb | E14: ='5.'!D9 -> 5000 | F14: abertura
C15: 5. | D15: Carlos Eduardo Delbon | E15: ='5.'!D6 -> 1721.24 | F15: abertura
C16: 5. | D16: Donizete Simioni | E16: ='5.'!D7 -> 1721.24 | F16: abertura
C17: 5. | D17: Juliana Picoli Agatte | E17: ='5.'!D10 -> 1721.24 | F17: abertura
C18: 5. | D18: Nelson Kiyoshi Hisatsuga | E18: ='5.'!D12 -> 1721.24 | F18: abertura
C19: 5. | D19: Sinval Alan Ferreira Silva | E19: ='5.'!D11 -> 1721.24 | F19: abertura
B20: ENCARGOS SOCIAIS
C21: 6. | D21: INSS sobre remuneração Autônomos | E21: ='6.'!D8 -> 4416.22 | F21: abertura
C22: 7. | D22: INSS sobre remuneração Diretores | E22: ='7.'!D8 -> 4665.48 | F22: abertura
B23: GASTOS DIVERSOS
C24: 8. | D24: Honorários Contábeis / Auditoria | E24: ='8.'!D8 -> 1800 | F24: abertura
C25: 9. | D25: Bens de Pequeno Valor | E25: ='9.'!D8 -> -868 | F25: abertura
C26: 10. | D26: Despesas com Eventos | E26: ='10.'!D8 -> 200 | F26: abertura
C27: 11. | D27: Despesa com Informatica/internet | E27: ='11.'!D9 -> 937.7 | F27: abertura
C28: 12. | D28: Despesas de Telefone | E28: ='12.'!D8 -> 231.59 | F28: abertura
C29: 13. | D29: Impressos/Xerox/Mat Escritorio | E29: ='13.'!D9 -> 361.92 | F29: abertura
C30: 14. | D30: Locação de Bens Moveis | E30: ='14.'!D8 -> 1100 | F30: abertura
C31: 15. | D31: Manutenção Maquinas/Equitos/Mobilia | E31: ='15.'!D8 -> 100 | F31: abertura
C32: 16. | D32: Material de Uso/Consumo | E32: ='16.'!D8 -> 73 | F32: abertura
C33: 17. | D33: Viagens e Estadias | E33: ='17.'!D8 -> 890.34 | F33: abertura
C34: 18. | D34: Depreciação | E34: ='18.'!D12 -> 585.68 | F34: abertura
C35: 19. | D35: Depreciação - Imoveis | E35: ='19.'!D9 -> 2743.91 | F35: abertura
B36: DESPESAS/RECEITAS FINANCEIRAS
C37: 20. | D37: Juros Ativos | E37: ='20.'!D10 -> -462.49 | F37: abertura
C38: 21. | D38: Despesas Bancárias | E38: ='21.'!D12 -> 32.5 | F38: abertura
C39: 22. | D39: Encargos s/ Tributos Vencidos | E39: ='22.'!D14 -> 1172.09 | F39: abertura
C40: 23. | D40: IOF s/ Aplicações Financeiras | E40: ='23.'!D8 -> 39.77 | F40: abertura
C41: 24. | D41: IRRF s/ Aplicações Financeiras | E41: ='24.'!D8 -> 31.67 | F41: abertura
...

Sheet 1.
B2: MORADA DO SOL TURISMO, EVENTOS E PARTICIPAÇÕES S/A
B3: Balancete de Despesas
B4: =RAZÃO!B4 -> Período : 01/12/2021 a 31/12/2021
B5: Data | C5: Histórico | D5: Valor
B6: 31/12/21 | C6: Devido s/receita operacional d/mes | D6: 3749.93 | E6: retorna | F6: docto.

Sheet 2.
B2: MORADA DO SOL TURISMO, EVENTOS E PARTICIPAÇÕES S/A
B3: Balancete de Despesas
B4: =RAZÃO!B4 -> Período : 01/12/2021 a 31/12/2021
B5: Data | C5: Histórico | D5: Valor
B6: 31/12/21 | C6: Devido s/receita operacional d/mes | D6: 812.48 | E6: retorna | F6: docto.

Sheet 3.
B2: MORADA DO SOL TURISMO, EVENTOS E PARTICIPAÇÕES S/A
B3: Balancete de Despesas
B4: =RAZÃO!B4 -> Período : 01/12/2021 a 31/12/2021
B5: Data | C5: Histórico | D5: Valor
B6: 31/12/21 | C6: Aline Maria Pereira cf. recibo nº 08/2021 | D6: 1700 | F6: docto.
B7: 31/12/21 | C7: Fernanda Cília Marafão Brunetti cf. recibo nº 11/2021 | D7: 1300 | E7: retorna | F7: docto.
C9: Total | D9: =SUM(D6:D8) -> 3000

Sheet 4.
B2: MORADA DO SOL TURISMO, EVENTOS E PARTICIPAÇÕES S/A
B3: Balancete de Despesas
B4: =RAZÃO!B4 -> Período : 01/12/2021 a 31/12/2021
B5: Data | C5: Histórico | D5: Valor
B6: 44539 | C6: Carlos Henrique dos Santos cf. recibo nº 02/2021 | D6: 674.16 | F6: docto.
B7: 44539 | C7: Rodrigo Ferraz Yoshimi cf. recibo nº 02/2021 | D7: 438.2 | F7: docto.
B8: 44539 | C8: Paula Ponciano Stievano cf. recibo nº 03/2021 | D8: 786.52 | F8: docto.
B9: 44540 | C9: Ivete Batista de Freitas cf. recibo nº 03/2021 | D9: 346.67 | F9: docto.
B10: 44540 | C10: Catarino Matos Rios cf. recibo nº 08/2021 | D10: 2134.83 | F10: docto.
B11: 44543 | C11: Vanessa Aparecida dos Saantos cf. recibo nº 01/2021 | D11: 224.72 | F11: docto.
B12: 44545 | C12: Eduardo Gustavo Buzza cf. recibo nº 04/2021 | D12: 146.07 | F12: docto.
B13: 44548 | C13: Carlos Henrique dos Santos cf. recibo nº 03/2021 | D13: 112.36 | F13: docto.
B14: 44552 | C14: Carolina Diógenes lourenço cf. recibo nº 01/2021 | D14: 449.44 | F14: docto.
B15: 44552 | C15: Vilma Medeiros Freitas cf. recibo nº 06/2021 | D15: 337.08 | F15: docto.
B16: 44552 | C16: Jesabel Cristina Faria da Costa cf. recibo nº 01/2021 | D16: 337.08 | F16: docto.
B17: 44553 | C17: Jefferson Roberto Calheiro cf. recibo nº 01/2021 | D17: 1573.03 | F17: docto.
... B24: 44561 | C24: Indiamara Moura Siqueira cf. recibo nº 12/2021 | D24: 1300 | F24: docto.
B25: 44561 | C25: Bruna Carolina Ponciano Stievano cf. recibo nº 17/2021 | D25: 1700 | E25: retorna | F25: docto.
C27: Total | D27: =SUM(D6:D26) -> 19081.51

Sheet 5.
B2: MORADA DO SOL TURISMO, EVENTOS E PARTICIPAÇÕES S/A
B3: Balancete de Despesas
B4: =RAZÃO!B4 -> Período : 01/12/2021 a 31/12/2021
B5: Data | C5: Histórico | D5: Valor
B6: 44561 | C6: Honorarios Diretoria Carlos Eduardo Delbon | D6: 1721.24 | F6: docto.
B7: 44561 | C7: Honorarios Diretoria Donizete Simioni | D7: 1721.24 | F7: docto.
B8: 44561 | C8: Honorarios Diretoria Manoel de Araujo Sobrinho | D8: 9721.24 | F8: docto.
B9: 44561 | C9: Honorarios Diretoria Saba Jose Harb | D9: 5000 | F9: docto.
B10: 44561 | C10: Honorarios Conselho Fiscal Juliana Picoli Agatte | D10: 1721.24 | F10: docto.
B11: 44561 | C11: Honorarios Conselho Fiscal Sinval Alan Ferreira silva | D11: 1721.24 | F11: docto.
B12: 44561 | C12: Honorarios Conselho Fiscal Nelson Kiyoshi Hisatsuga | D12: 1721.24 | E12: retorna | F12: docto.
C14: Total | D14: =SUM(D6:D13) -> 23327.44

Sheet 6.
B2: MORADA DO SOL TURISMO, EVENTOS E PARTICIPAÇÕES S/A
B3: Balancete de Despesas
B4: =RAZÃO!B4 -> Período : 01/12/2021 a 31/12/2021
B5: Data | C5: Histórico | D5: Valor
B6: 31/12/21 | C6: Devido s/remuneração autônomos d/mês | D6: 4416.22 | E6: retorna | F6: docto.
C8: Total | D8: =SUM(D6:D7) -> 4416.22

Sheet 7.
B2: MORADA DO SOL TURISMO, EVENTOS E PARTICIPAÇÕES S/A
B3: Balancete de Despesas
B4: =RAZÃO!B4 -> Período : 01/12/2021 a 31/12/2021
B5: Data | C5: Histórico | D5: Valor
B6: 31/12/21 | C6: Devido s/remuneração diretores | D6: 4665.48 | E6: retorna | F6: docto.
C8: Total | D8: =SUM(D6:D7) -> 4665.48

Sheet 8.
B2: MORADA DO SOL TURISMO, EVENTOS E PARTICIPAÇÕES S/A
B3: Balancete de Despesas
B4: =RAZÃO!B4 -> Período : 01/12/2021 a 31/12/2021
B5: Data | C5: Histórico | D5: Valor
B6: 44531 | C6: NF. 2447 Escritório Delta Contábil Ltda | D6: 1800 | E6: retorna | F6: docto.
C8: Total | D8: =SUM(D6:D7) -> 1800

Sheet 9.
B2: MORADA DO SOL TURISMO, EVENTOS E PARTICIPAÇÕES S/A
B3: Balancete de Despesas
B4: =RAZÃO!B4 -> Período : 01/12/2021 a 31/12/2021
B5: Data | C5: Histórico | D5: Valor
B6: 44551 | C6: Credito c/c ref. mercadoria devolvida (microfone / nf. 1600 J. C. Pena da Silva ME) | D6: -868 | E6: retorna | F6: docto.
C8: Total | D8: =SUM(D6:D7) -> -868

Sheet 10.
B2: MORADA DO SOL TURISMO, EVENTOS E PARTICIPAÇÕES S/A
B3: Balancete de Despesas
B4: =RAZÃO!B4 -> Período : 01/12/2021 a 31/12/2021
B5: Data | C5: Histórico | D5: Valor
B6: 44533 | C6: Pg. Isabele Mota cf. recibo | D6: 200 | E6: retorna | F6: docto.
C8: Total | D8: =SUM(D6:D7) -> 200

Sheet 11.
B2: MORADA DO SOL TURISMO, EVENTOS E PARTICIPAÇÕES S/A
B3: Balancete de Despesas
B4: =RAZÃO!B4 -> Período : 01/12/2021 a 31/12/2021
B5: Data | C5: Histórico | D5: Valor
B6: 44543 | C6: NF. 6093 Techs Net Eireli - EPP | D6: 83.7 | F6: docto.
B7: 44559 | C7: Pg.NF.(s) 10713 Nacontatotem Varejo Ltda | D7: 854 | E7: retorna | F7: docto.
C9: Total | D9: =SUM(D6:D8) -> 937.7

Sheet 12.
B2: MORADA DO SOL TURISMO, EVENTOS E PARTICIPAÇÕES S/A
B3: Balancete de Despesas
B4: =RAZÃO!B4 -> Período : 01/12/2021 a 31/12/2021
B5: Data | C5: Histórico | D5: Valor
B6: 44545 | C6: Pg. Telefônica Brasil S/A ref. 12/2021 cf. comprovante | D6: 231.59 | E6: retorna | F6: docto.
C8: Total | D8: =SUM(D6:D7) -> 231.59

Sheet 13.
B2: MORADA DO SOL TURISMO, EVENTOS E PARTICIPAÇÕES S/A
B3: Balancete de Despesas
B4: =RAZÃO!B4 -> Período : 01/12/2021 a 31/12/2021
B5: Data | C5: Histórico | D5: Valor
B6: 44551 | C6: NF. 59805 Bazar Sensação Magazine e Papelaria Ltda | D6: 196.92 | F6: docto.
B7: 44557 | C7: Pg. Nelson Kiyoshi Hisatsuga (Reembolso impressões) | D7: 165 | E7: retorna | F7: docto.
C9: Total | D9: =SUM(D6:D8) -> 361.92

Sheet 14.
B2: MORADA DO SOL TURISMO, EVENTOS E PARTICIPAÇÕES S/A
B3: Balancete de Despesas
B4: =RAZÃO!B4 -> Período : 01/12/2021 a 31/12/2021
B5: Data | C5: Histórico | D5: Valor
B6: 44533 | C6: Pg. Eletrans Fabricação de Equipamentos Elétricos Ltda cf. fatura nº 430 | D6: 1100 | E6: retorna | F6: docto.
C8: Total | D8: =SUM(D6:D7) -> 1100

Sheet 15.
B2: MORADA DO SOL TURISMO, EVENTOS E PARTICIPAÇÕES S/A
B3: Balancete de Despesas
B4: =RAZÃO!B4 -> Período : 01/12/2021 a 31/12/2021
B5: Data | C5: Histórico | D5: Valor
B6: 44536 | C6: Pg.NF.(s) 237 Ricardo César Gea Bernar Júnior | D6: 100 | E6: retorna | F6: docto.
C8: Total | D8: =SUM(D6:D7) -> 100

Sheet 16.
B2: MORADA DO SOL TURISMO, EVENTOS E PARTICIPAÇÕES S/A
B3: Balancete de Despesas
B4: =RAZÃO!B4 -> Período : 01/12/2021 a 31/12/2021
B5: Data | C5: Histórico | D5: Valor
B6: 44557 | C6: PIX/Maria Helena Vargas Harb (Microfone) | D6: 73 | E6: retorna | F6: docto.
C8: Total | D8: =SUM(D6:D7) -> 73

Sheet 17.
B2: MORADA DO SOL TURISMO, EVENTOS E PARTICIPAÇÕES S/A
B3: Balancete de Despesas
B4: =RAZÃO!B4 -> Período : 01/12/2021 a 31/12/2021
B5: Data | C5: Histórico | D5: Valor
B6: 44545 | C6: Pg. reembolso das despesas de viagem do diretor-presidente a São Paulo cf. comprovantes | D6: 890.34 | E6: retorna | F6: docto.
C8: Total | D8: =SUM(D6:D7) -> 890.34

Sheet 18.
B2: MORADA DO SOL TURISMO, EVENTOS E PARTICIPAÇÕES S/A
B3: Balancete de Despesas
B4: =RAZÃO!B4 -> Período : 01/12/2021 a 31/12/2021
B5: Data | C5: Histórico | D5: Valor
B6: 44561 | C6: Deprec.equiptos comunicação cf.relatório auxiliar | D6: 15.25 | F6: docto.
B7: 44561 | C7: Deprec.equiptos informática cf.relatório auxiliar | D7: 37.47 | F7: docto.
B8: 44561 | C8: Deprec.maquinas e equiptos cf.relatório auxiliar | D8: 264.43 | F8: docto.
B9: 44561 | C9: Deprec.outras imobilizações cf.relatório auxiliar | D9: 225.42 | F9: docto.
B10: 44561 | C10: Deprec.moveis e utensilios cf.relatório auxiliar | D10: 43.11 | E10: retorna | F10: docto.
C12: Total | D12: =SUM(D6:D11) -> 585.68

Sheet 19.
B2: MORADA DO SOL TURISMO, EVENTOS E PARTICIPAÇÕES S/A
B3: Balancete de Despesas
B4: =RAZÃO!B4 -> Período : 01/12/2021 a 31/12/2021
B5: Data | C5: Histórico | D5: Valor
B6: 44561 | C6: Deprec.acum.c/imóveis (CEAR - edificacao Centro de Eventos) cf.relatório auxiliar | D6: 2374.93 | F6: docto.
B7: 44561 | C7: Deprec.acum.c/imóveis (CEAR - edificacoes) cf.relatório auxiliar | D7: 368.98 | E7: retorna | F7: docto.
C9: Total | D9: =SUM(D6:D8) -> 2743.91

Sheet 20.
B2: MORADA DO SOL TURISMO, EVENTOS E PARTICIPAÇÕES S/A
B3: Balancete de Despesas
B4: =RAZÃO!B4 -> Período : 01/12/2021 a 31/12/2021
B5: Data | C5: Histórico | D5: Valor
B6: 44540 | C6: S/recebimento contrato 083/2021 | D6: -158.33 | F6: docto.
B7: 44540 | C7: S/recebimento contrato 084/2021 | D7: -154.16 | F7: docto.
B8: 44540 | C8: S/recebimento contrato 085/2021 | D8: -150 | E8: retorna | F8: docto.
C10: Total | D10: =SUM(D6:D9) -> -462.49

Sheet 21.
B2: MORADA DO SOL TURISMO, EVENTOS E PARTICIPAÇÕES S/A
B3: Balancete de Despesas
B4: =RAZÃO!B4 -> Período : 01/12/2021 a 31/12/2021
B5: Data | C5: Histórico | D5: Valor
B6: 44531 | C6: Tarifa Manutenção Conta Ativa | D6: 20 | F6: docto.
B7: 44537 | C7: Tarifa Cobrança | D7: 2.5 | F7: docto.
B8: 44546 | C8: Tarifa Cobrança | D8: 2.5 | F8: docto.
B9: 44547 | C9: Tarifa Cobrança | D9: 5 | F9: docto.
B10: 44551 | C10: Tarifa Cobrança | D10: 2.5 | E10: retorna | F10: docto.
C12: Total | D12: =SUM(D6:D11) -> 32.5

Sheet 22.
B2: MORADA DO SOL TURISMO, EVENTOS E PARTICIPAÇÕES S/A
B3: Balancete de Despesas
B4: =RAZÃO!B4 -> Período : 01/12/2021 a 31/12/2021
B5: Data | C5: Histórico | D5: Valor
B6: 44560 | C6: Ref. INSS parcelamento 10/60 | D6: 312.22 | F6: docto.
B7: 44560 | C7: Ref. Pis/Cofins/CSLL/IRPJ parcela 10/60 | D7: 170.76 | F7: docto.
B8: 44560 | C8: Ref. IRPJ parcelamento 10/33 | D8: 111.33 | F8: docto.
B9: 44560 | C9: Ref. Cofins parcelamento 10/20 | D9: 113.76 | F9: docto.
B10: 44560 | C10: Ref. IRPJ parcelamento 35/60 | D10: 175.84 | F10: docto.
B11: 44560 | C11: Ref. CSLL parcelamento 10/15 | D11: 111.61 | F11: docto.
B12: 44560 | C12: Ref. CSLL parcelamento 35/36 | D12: 176.57 | E12: retorna | F12: docto.
C14: Total | D14: =SUM(D6:D13) -> 1172.09

Sheet 23.
B2: MORADA DO SOL TURISMO, EVENTOS E PARTICIPAÇÕES S/A
B3: Balancete de Despesas
B4: =RAZÃO!B4 -> Período : 01/12/2021 a 31/12/2021
B5: Data | C5: Histórico | D5: Valor
B6: 44561 | C6: IOF s/rendimento RDC d/mês | D6: 39.77 | E6: retorna | F6: docto.
C8: Total | D8: =SUM(D6:D7) -> 39.77

Sheet 24.
B2: MORADA DO SOL TURISMO, EVENTOS E PARTICIPAÇÕES S/A
B3: Balancete de Despesas
B4: =RAZÃO!B4 -> Período : 01/12/2021 a 31/12/2021
B5: Data | C5: Histórico | D5: Valor
B6: 44561 | C6: IRRF s/rendimento RDC d/mês | D6: 31.67 | E6: retorna | F6: docto.
C8: Total | D8: =SUM(D6:D7) -> 31.67

Sheet 25.
B2: MORADA DO SOL TURISMO, EVENTOS E PARTICIPAÇÕES S/A
B3: Balancete de Despesas
B4: =RAZÃO!B4 -> Período : 01/12/2021 a 31/12/2021
B5: Data | C5: Histórico | D5: Valor
B6: 44560 | C6: Atualizacao valor remanescente parcelamento junto a divida ativa (inclui encargos) | D6: 15060.6 | E6: retorna | F6: docto.
C8: Total | D8: =SUM(D6:D7) -> 15060.6

Sheet 26.
B2: MORADA DO SOL TURISMO, EVENTOS E PARTICIPAÇÕES S/A
B3: Balancete de Despesas
B4: =RAZÃO!B4 -> Período : 01/12/2021 a 31/12/2021
B5: Data | C5: Histórico | D5: Valor
B6: 44560 | C6: Transferencia - cofins 01/2016 - prazo para compensacao expirado | D6: 146.5 | F6: docto.
B7: 44560 | C7: Transferencia - csll recolhida maior em 2016 - prazo para compensacao expirado | D7: 46.4 | F7: docto.
B8: 44560 | C8: Transferencia - contribuicao previdenciaria recolhida maior em 2016 - prazo para compensacao expirado | D8: 916.4 | F8: docto.
B9: 44560 | C9: Transferencia - irpj recolhido maior em 2016 - prazo para compensacao expirado | D9: 77.33 | F9: docto.
B10: 44560 | C10: Transferencia - IRRF a recuperar de 2016 - prazo para compensacao expirado | D10: 465.66 | F10: docto.
B11: 44560 | C11: Transferencia - pis 01/2016 - prazo para compensacao expirado | D11: 57.75 | F11: docto.
B12: 44560 | C12: Transferencia - pis 02/2016 - prazo para compensacao expirado | D12: 176.58 | F12: docto.
B13: 44560 | C13: Transferencia - pis 07/2016 - prazo para compensacao expirado | D13: 33 | F13: docto.
B14: 44560 | C14: Transferencia - pis 08/2016 - prazo para compensacao expirado | D14: 24.75 | E14: retorna | F14: docto.
C16: Total | D16: =SUM(D6:D15) -> 1944.37

Sheet 27.
B2: MORADA DO SOL TURISMO, EVENTOS E PARTICIPAÇÕES S/A
B3: Balancete de Despesas
B4: =RAZÃO!B4 -> Período : 01/12/2021 a 31/12/2021
B5: Data | C5: Histórico | D5: Valor
B6: 44561 | C6: CSLL devida s/lucro presumido 4º trimestre/2021 | D6: 8073.87 | E6: retorna | F6: docto.
C8: Total | D8: =SUM(D6:D7) -> 8073.87

Sheet 28.
B2: MORADA DO SOL TURISMO, EVENTOS E PARTICIPAÇÕES S/A
B3: Balancete de Despesas
B4: =RAZÃO!B4 -> Período : 01/12/2021 a 31/12/2021
B5: Data | C5: Histórico | D5: Valor
B6: 44561 | C6: IRPJ devido s/lucro presumido 4º trimestre/2021 | D6: 16427.42 | E6: retorna | F6: docto.
C8: Total | D8: =SUM(D6:D7) -> 16427.42
